BEGIN:VCALENDAR
VERSION:2.0
PRODID:-//Victory Life Bible Church, Sacramento - ECPv6.13.2.1//NONSGML v1.0//EN
CALSCALE:GREGORIAN
METHOD:PUBLISH
X-ORIGINAL-URL:https://www.vlbcsac.org
X-WR-CALDESC:Events for Victory Life Bible Church, Sacramento
REFRESH-INTERVAL;VALUE=DURATION:PT1H
X-Robots-Tag:noindex
X-PUBLISHED-TTL:PT1H
BEGIN:VTIMEZONE
TZID:UTC
BEGIN:STANDARD
TZOFFSETFROM:+0000
TZOFFSETTO:+0000
TZNAME:UTC
DTSTART:20170101T000000
END:STANDARD
END:VTIMEZONE
BEGIN:VEVENT
DTSTART;TZID=UTC:20170825T190000
DTEND;TZID=UTC:20170825T210000
DTSTAMP:20260420T113611
CREATED:20170801T115713Z
LAST-MODIFIED:20170801T115713Z
UID:2113-1503687600-1503694800@www.vlbcsac.org
SUMMARY:Call to Prayer
DESCRIPTION:
URL:https://www.vlbcsac.org/event/call-to-prayer-19/
LOCATION:Victory Life Bible Church\, 5697 Hillsdale Blvd\, Sacramento\, CA\, 95842\, United States
CATEGORIES:Call to Prayer
END:VEVENT
BEGIN:VEVENT
DTSTART;TZID=UTC:20170818T190000
DTEND;TZID=UTC:20170818T210000
DTSTAMP:20260420T113611
CREATED:20170801T115624Z
LAST-MODIFIED:20170801T115642Z
UID:2111-1503082800-1503090000@www.vlbcsac.org
SUMMARY:Call to Prayer
DESCRIPTION:
URL:https://www.vlbcsac.org/event/call-to-prayer-18/
LOCATION:Victory Life Bible Church\, 5697 Hillsdale Blvd\, Sacramento\, CA\, 95842\, United States
CATEGORIES:Call to Prayer
END:VEVENT
BEGIN:VEVENT
DTSTART;TZID=UTC:20170804T190000
DTEND;TZID=UTC:20170804T210000
DTSTAMP:20260420T113611
CREATED:20170801T115552Z
LAST-MODIFIED:20170801T115552Z
UID:2109-1501873200-1501880400@www.vlbcsac.org
SUMMARY:Call to Prayer
DESCRIPTION:
URL:https://www.vlbcsac.org/event/call-to-prayer-17/
LOCATION:Victory Life Bible Church\, 5697 Hillsdale Blvd\, Sacramento\, CA\, 95842\, United States
CATEGORIES:Call to Prayer
END:VEVENT
BEGIN:VEVENT
DTSTART;TZID=UTC:20170714T190000
DTEND;TZID=UTC:20170714T203000
DTSTAMP:20260420T113611
CREATED:20170709T220220Z
LAST-MODIFIED:20170709T220220Z
UID:2075-1500058800-1500064200@www.vlbcsac.org
SUMMARY:Call to Prayer
DESCRIPTION:
URL:https://www.vlbcsac.org/event/call-to-prayer-16/
LOCATION:CA
CATEGORIES:Call to Prayer
END:VEVENT
BEGIN:VEVENT
DTSTART;TZID=UTC:20170526T080000
DTEND;TZID=UTC:20170526T170000
DTSTAMP:20260420T113611
CREATED:20170306T071830Z
LAST-MODIFIED:20170306T071830Z
UID:1949-1495785600-1495818000@www.vlbcsac.org
SUMMARY:Call to Prayer
DESCRIPTION:
URL:https://www.vlbcsac.org/event/call-to-prayer-15/
LOCATION:Victory Life Bible Church\, 5697 Hillsdale Blvd\, Sacramento\, CA\, 95842\, United States
CATEGORIES:Call to Prayer
END:VEVENT
BEGIN:VEVENT
DTSTART;TZID=UTC:20170519T190000
DTEND;TZID=UTC:20170519T210000
DTSTAMP:20260420T113611
CREATED:20170306T071759Z
LAST-MODIFIED:20170306T071759Z
UID:1947-1495220400-1495227600@www.vlbcsac.org
SUMMARY:Call to Prayer
DESCRIPTION:
URL:https://www.vlbcsac.org/event/call-to-prayer-14/
LOCATION:Victory Life Bible Church\, 5697 Hillsdale Blvd\, Sacramento\, CA\, 95842\, United States
CATEGORIES:Call to Prayer
END:VEVENT
BEGIN:VEVENT
DTSTART;TZID=UTC:20170512T190000
DTEND;TZID=UTC:20170512T210000
DTSTAMP:20260420T113611
CREATED:20170306T071728Z
LAST-MODIFIED:20170306T071728Z
UID:1945-1494615600-1494622800@www.vlbcsac.org
SUMMARY:Call to Prayer
DESCRIPTION:
URL:https://www.vlbcsac.org/event/call-to-prayer-13/
LOCATION:Victory Life Bible Church\, 5697 Hillsdale Blvd\, Sacramento\, CA\, 95842\, United States
CATEGORIES:Call to Prayer
END:VEVENT
BEGIN:VEVENT
DTSTART;TZID=UTC:20170505T190000
DTEND;TZID=UTC:20170505T210000
DTSTAMP:20260420T113611
CREATED:20170306T071656Z
LAST-MODIFIED:20170306T071656Z
UID:1943-1494010800-1494018000@www.vlbcsac.org
SUMMARY:Call to Prayer
DESCRIPTION:
URL:https://www.vlbcsac.org/event/call-to-prayer-12/
LOCATION:Victory Life Bible Church\, 5697 Hillsdale Blvd\, Sacramento\, CA\, 95842\, United States
CATEGORIES:Call to Prayer
END:VEVENT
BEGIN:VEVENT
DTSTART;TZID=UTC:20170428T190000
DTEND;TZID=UTC:20170428T210000
DTSTAMP:20260420T113611
CREATED:20170306T071623Z
LAST-MODIFIED:20170306T071623Z
UID:1941-1493406000-1493413200@www.vlbcsac.org
SUMMARY:Call to Prayer
DESCRIPTION:
URL:https://www.vlbcsac.org/event/call-to-prayer-11/
LOCATION:Victory Life Bible Church\, 5697 Hillsdale Blvd\, Sacramento\, CA\, 95842\, United States
CATEGORIES:Call to Prayer
END:VEVENT
BEGIN:VEVENT
DTSTART;TZID=UTC:20170421T190000
DTEND;TZID=UTC:20170421T210000
DTSTAMP:20260420T113611
CREATED:20170306T071544Z
LAST-MODIFIED:20170306T071544Z
UID:1939-1492801200-1492808400@www.vlbcsac.org
SUMMARY:Call to Prayer
DESCRIPTION:
URL:https://www.vlbcsac.org/event/call-to-prayer-10/
LOCATION:Victory Life Bible Church\, 5697 Hillsdale Blvd\, Sacramento\, CA\, 95842\, United States
CATEGORIES:Call to Prayer
END:VEVENT
BEGIN:VEVENT
DTSTART;TZID=UTC:20170414T190000
DTEND;TZID=UTC:20170414T210000
DTSTAMP:20260420T113611
CREATED:20170306T071510Z
LAST-MODIFIED:20170306T071510Z
UID:1937-1492196400-1492203600@www.vlbcsac.org
SUMMARY:Call to Prayer
DESCRIPTION:
URL:https://www.vlbcsac.org/event/call-to-prayer-9/
LOCATION:Victory Life Bible Church\, 5697 Hillsdale Blvd\, Sacramento\, CA\, 95842\, United States
CATEGORIES:Call to Prayer
END:VEVENT
BEGIN:VEVENT
DTSTART;TZID=UTC:20170407T190000
DTEND;TZID=UTC:20170407T210000
DTSTAMP:20260420T113611
CREATED:20170306T071435Z
LAST-MODIFIED:20170306T071435Z
UID:1935-1491591600-1491598800@www.vlbcsac.org
SUMMARY:Call to Prayer
DESCRIPTION:
URL:https://www.vlbcsac.org/event/call-to-prayer-8/
LOCATION:Victory Life Bible Church\, 5697 Hillsdale Blvd\, Sacramento\, CA\, 95842\, United States
CATEGORIES:Call to Prayer
END:VEVENT
BEGIN:VEVENT
DTSTART;TZID=UTC:20170331T190000
DTEND;TZID=UTC:20170331T210000
DTSTAMP:20260420T113611
CREATED:20170306T071404Z
LAST-MODIFIED:20170306T071404Z
UID:1933-1490986800-1490994000@www.vlbcsac.org
SUMMARY:Call to Prayer
DESCRIPTION:
URL:https://www.vlbcsac.org/event/call-to-prayer-7/
LOCATION:Victory Life Bible Church\, 5697 Hillsdale Blvd\, Sacramento\, CA\, 95842\, United States
CATEGORIES:Call to Prayer
END:VEVENT
BEGIN:VEVENT
DTSTART;TZID=UTC:20170324T190000
DTEND;TZID=UTC:20170324T210000
DTSTAMP:20260420T113611
CREATED:20170306T071329Z
LAST-MODIFIED:20170306T071329Z
UID:1931-1490382000-1490389200@www.vlbcsac.org
SUMMARY:Call to Prayer
DESCRIPTION:
URL:https://www.vlbcsac.org/event/call-to-prayer-6/
LOCATION:Victory Life Bible Church\, 5697 Hillsdale Blvd\, Sacramento\, CA\, 95842\, United States
CATEGORIES:Call to Prayer
END:VEVENT
BEGIN:VEVENT
DTSTART;TZID=UTC:20170317T190000
DTEND;TZID=UTC:20170317T210000
DTSTAMP:20260420T113611
CREATED:20170306T071257Z
LAST-MODIFIED:20170306T071257Z
UID:1929-1489777200-1489784400@www.vlbcsac.org
SUMMARY:Call to Prayer
DESCRIPTION:
URL:https://www.vlbcsac.org/event/call-to-prayer-5/
LOCATION:Victory Life Bible Church\, 5697 Hillsdale Blvd\, Sacramento\, CA\, 95842\, United States
CATEGORIES:Call to Prayer
END:VEVENT
BEGIN:VEVENT
DTSTART;TZID=UTC:20170310T190000
DTEND;TZID=UTC:20170310T210000
DTSTAMP:20260420T113611
CREATED:20170306T071224Z
LAST-MODIFIED:20170306T071224Z
UID:1927-1489172400-1489179600@www.vlbcsac.org
SUMMARY:Call to Prayer
DESCRIPTION:
URL:https://www.vlbcsac.org/event/call-to-prayer-4/
LOCATION:Victory Life Bible Church\, 5697 Hillsdale Blvd\, Sacramento\, CA\, 95842\, United States
CATEGORIES:Call to Prayer
END:VEVENT
BEGIN:VEVENT
DTSTART;TZID=UTC:20170217T190000
DTEND;TZID=UTC:20170217T210000
DTSTAMP:20260420T113611
CREATED:20170206T004400Z
LAST-MODIFIED:20170221T042719Z
UID:1773-1487358000-1487365200@www.vlbcsac.org
SUMMARY:Call to Prayer
DESCRIPTION:
URL:https://www.vlbcsac.org/event/call-to-prayer-2/
LOCATION:Victory Life Bible Church\, 5697 Hillsdale Blvd\, Sacramento\, CA\, 95842\, United States
CATEGORIES:Call to Prayer
END:VEVENT
END:VCALENDAR