BEGIN:VCALENDAR
VERSION:2.0
PRODID:-//Victory Life Bible Church, Sacramento - ECPv6.13.2.1//NONSGML v1.0//EN
CALSCALE:GREGORIAN
METHOD:PUBLISH
X-ORIGINAL-URL:https://www.vlbcsac.org
X-WR-CALDESC:Events for Victory Life Bible Church, Sacramento
REFRESH-INTERVAL;VALUE=DURATION:PT1H
X-Robots-Tag:noindex
X-PUBLISHED-TTL:PT1H
BEGIN:VTIMEZONE
TZID:UTC
BEGIN:STANDARD
TZOFFSETFROM:+0000
TZOFFSETTO:+0000
TZNAME:UTC
DTSTART:20170101T000000
END:STANDARD
END:VTIMEZONE
BEGIN:VEVENT
DTSTART;TZID=UTC:20170327T100000
DTEND;TZID=UTC:20170327T120000
DTSTAMP:20260420T124723
CREATED:20170306T072138Z
LAST-MODIFIED:20170306T072138Z
UID:1957-1490608800-1490616000@www.vlbcsac.org
SUMMARY:Food Ministry
DESCRIPTION:
URL:https://www.vlbcsac.org/event/food-ministry-5/
LOCATION:Victory Life Bible Church\, 5697 Hillsdale Blvd\, Sacramento\, CA\, 95842\, United States
CATEGORIES:Food Ministry
END:VEVENT
BEGIN:VEVENT
DTSTART;TZID=UTC:20170320T100000
DTEND;TZID=UTC:20170320T120000
DTSTAMP:20260420T124723
CREATED:20170306T072105Z
LAST-MODIFIED:20170306T072105Z
UID:1955-1490004000-1490011200@www.vlbcsac.org
SUMMARY:Food Ministry
DESCRIPTION:
URL:https://www.vlbcsac.org/event/food-ministry-4/
LOCATION:Victory Life Bible Church\, 5697 Hillsdale Blvd\, Sacramento\, CA\, 95842\, United States
CATEGORIES:Food Ministry
END:VEVENT
BEGIN:VEVENT
DTSTART;TZID=UTC:20170313T100000
DTEND;TZID=UTC:20170313T120000
DTSTAMP:20260420T124723
CREATED:20170306T072034Z
LAST-MODIFIED:20170306T072034Z
UID:1953-1489399200-1489406400@www.vlbcsac.org
SUMMARY:Food Ministry
DESCRIPTION:
URL:https://www.vlbcsac.org/event/food-ministry-3/
LOCATION:Victory Life Bible Church\, 5697 Hillsdale Blvd\, Sacramento\, CA\, 95842\, United States
CATEGORIES:Food Ministry
END:VEVENT
BEGIN:VEVENT
DTSTART;TZID=UTC:20170306T100000
DTEND;TZID=UTC:20170306T120000
DTSTAMP:20260420T124723
CREATED:20170306T072005Z
LAST-MODIFIED:20170306T072005Z
UID:1951-1488794400-1488801600@www.vlbcsac.org
SUMMARY:Food Ministry
DESCRIPTION:
URL:https://www.vlbcsac.org/event/food-ministry-2/
LOCATION:Victory Life Bible Church\, 5697 Hillsdale Blvd\, Sacramento\, CA\, 95842\, United States
CATEGORIES:Food Ministry
END:VEVENT
BEGIN:VEVENT
DTSTART;TZID=UTC:20170220T100000
DTEND;TZID=UTC:20170220T120000
DTSTAMP:20260420T124723
CREATED:20170221T043038Z
LAST-MODIFIED:20170221T043038Z
UID:1794-1487584800-1487592000@www.vlbcsac.org
SUMMARY:Food Ministry
DESCRIPTION:
URL:https://www.vlbcsac.org/event/food-ministry/
LOCATION:Victory Life Bible Church\, 5697 Hillsdale Blvd\, Sacramento\, CA\, 95842\, United States
CATEGORIES:Food Ministry
END:VEVENT
END:VCALENDAR