BEGIN:VCALENDAR
VERSION:2.0
PRODID:-//Victory Life Bible Church, Sacramento - ECPv6.13.2.1//NONSGML v1.0//EN
CALSCALE:GREGORIAN
METHOD:PUBLISH
X-ORIGINAL-URL:https://www.vlbcsac.org
X-WR-CALDESC:Events for Victory Life Bible Church, Sacramento
REFRESH-INTERVAL;VALUE=DURATION:PT1H
X-Robots-Tag:noindex
X-PUBLISHED-TTL:PT1H
BEGIN:VTIMEZONE
TZID:UTC
BEGIN:STANDARD
TZOFFSETFROM:+0000
TZOFFSETTO:+0000
TZNAME:UTC
DTSTART:20170101T000000
END:STANDARD
END:VTIMEZONE
BEGIN:VEVENT
DTSTART;TZID=UTC:20170820T104500
DTEND;TZID=UTC:20170820T130000
DTSTAMP:20260420T124725
CREATED:20170801T120659Z
LAST-MODIFIED:20170801T120659Z
UID:2140-1503225900-1503234000@www.vlbcsac.org
SUMMARY:Praise & Worship Service
DESCRIPTION:
URL:https://www.vlbcsac.org/event/praise-worship-service-16/
LOCATION:Victory Life Bible Church\, 5697 Hillsdale Blvd\, Sacramento\, CA\, 95842\, United States
CATEGORIES:Praise & Worship Service
END:VEVENT
BEGIN:VEVENT
DTSTART;TZID=UTC:20170806T104500
DTEND;TZID=UTC:20170806T130000
DTSTAMP:20260420T124725
CREATED:20170801T120624Z
LAST-MODIFIED:20170801T120624Z
UID:2138-1502016300-1502024400@www.vlbcsac.org
SUMMARY:Praise & Worship Service
DESCRIPTION:
URL:https://www.vlbcsac.org/event/praise-worship-service-15/
LOCATION:Victory Life Bible Church\, 5697 Hillsdale Blvd\, Sacramento\, CA\, 95842\, United States
CATEGORIES:Praise & Worship Service
END:VEVENT
BEGIN:VEVENT
DTSTART;TZID=UTC:20170507T104500
DTEND;TZID=UTC:20170507T130000
DTSTAMP:20260420T124725
CREATED:20170327T092118Z
LAST-MODIFIED:20170327T092118Z
UID:2008-1494153900-1494162000@www.vlbcsac.org
SUMMARY:Praise & Worship Service
DESCRIPTION:
URL:https://www.vlbcsac.org/event/praise-worship-service-14/
LOCATION:Victory Life Bible Church\, 5697 Hillsdale Blvd\, Sacramento\, CA\, 95842\, United States
CATEGORIES:Praise & Worship Service
END:VEVENT
BEGIN:VEVENT
DTSTART;TZID=UTC:20170430T104500
DTEND;TZID=UTC:20170430T130000
DTSTAMP:20260420T124725
CREATED:20170327T092043Z
LAST-MODIFIED:20170327T092043Z
UID:2006-1493549100-1493557200@www.vlbcsac.org
SUMMARY:Praise & Worship Service
DESCRIPTION:
URL:https://www.vlbcsac.org/event/praise-worship-service-13/
LOCATION:Victory Life Bible Church\, 5697 Hillsdale Blvd\, Sacramento\, CA\, 95842\, United States
CATEGORIES:Praise & Worship Service
END:VEVENT
BEGIN:VEVENT
DTSTART;TZID=UTC:20170423T104500
DTEND;TZID=UTC:20170423T130000
DTSTAMP:20260420T124725
CREATED:20170327T091959Z
LAST-MODIFIED:20170327T091959Z
UID:2004-1492944300-1492952400@www.vlbcsac.org
SUMMARY:Praise & Worship Service
DESCRIPTION:
URL:https://www.vlbcsac.org/event/praise-worship-service-12/
LOCATION:Victory Life Bible Church\, 5697 Hillsdale Blvd\, Sacramento\, CA\, 95842\, United States
CATEGORIES:Praise & Worship Service
END:VEVENT
BEGIN:VEVENT
DTSTART;TZID=UTC:20170416T104500
DTEND;TZID=UTC:20170416T130000
DTSTAMP:20260420T124725
CREATED:20170327T091928Z
LAST-MODIFIED:20170327T091928Z
UID:2002-1492339500-1492347600@www.vlbcsac.org
SUMMARY:Praise & Worship Service
DESCRIPTION:
URL:https://www.vlbcsac.org/event/praise-worship-service-11/
LOCATION:Victory Life Bible Church\, 5697 Hillsdale Blvd\, Sacramento\, CA\, 95842\, United States
CATEGORIES:Praise & Worship Service
END:VEVENT
BEGIN:VEVENT
DTSTART;TZID=UTC:20170409T104500
DTEND;TZID=UTC:20170409T130000
DTSTAMP:20260420T124725
CREATED:20170327T091853Z
LAST-MODIFIED:20170327T091853Z
UID:2000-1491734700-1491742800@www.vlbcsac.org
SUMMARY:Praise & Worship Service
DESCRIPTION:
URL:https://www.vlbcsac.org/event/praise-worship-service-10/
LOCATION:Victory Life Bible Church\, 5697 Hillsdale Blvd\, Sacramento\, CA\, 95842\, United States
CATEGORIES:Praise & Worship Service
END:VEVENT
BEGIN:VEVENT
DTSTART;TZID=UTC:20170402T104500
DTEND;TZID=UTC:20170402T130000
DTSTAMP:20260420T124725
CREATED:20170221T045125Z
LAST-MODIFIED:20170221T045125Z
UID:1832-1491129900-1491138000@www.vlbcsac.org
SUMMARY:Praise & Worship Service
DESCRIPTION:
URL:https://www.vlbcsac.org/event/praise-worship-service-9/
LOCATION:Victory Life Bible Church\, 5697 Hillsdale Blvd\, Sacramento\, CA\, 95842\, United States
CATEGORIES:Praise & Worship Service
END:VEVENT
BEGIN:VEVENT
DTSTART;TZID=UTC:20170319T104500
DTEND;TZID=UTC:20170319T130000
DTSTAMP:20260420T124725
CREATED:20170221T044934Z
LAST-MODIFIED:20170221T044943Z
UID:1828-1489920300-1489928400@www.vlbcsac.org
SUMMARY:Praise & Worship Service
DESCRIPTION:
URL:https://www.vlbcsac.org/event/praise-worship-service-7/
LOCATION:Victory Life Bible Church\, 5697 Hillsdale Blvd\, Sacramento\, CA\, 95842\, United States
CATEGORIES:Praise & Worship Service
END:VEVENT
BEGIN:VEVENT
DTSTART;TZID=UTC:20170312T104500
DTEND;TZID=UTC:20170312T130000
DTSTAMP:20260420T124725
CREATED:20170221T044852Z
LAST-MODIFIED:20170221T044852Z
UID:1826-1489315500-1489323600@www.vlbcsac.org
SUMMARY:Praise & Worship Service
DESCRIPTION:
URL:https://www.vlbcsac.org/event/praise-worship-service-6/
LOCATION:Victory Life Bible Church\, 5697 Hillsdale Blvd\, Sacramento\, CA\, 95842\, United States
CATEGORIES:Praise & Worship Service
END:VEVENT
BEGIN:VEVENT
DTSTART;TZID=UTC:20170305T104500
DTEND;TZID=UTC:20170305T130000
DTSTAMP:20260420T124725
CREATED:20170221T044813Z
LAST-MODIFIED:20170221T044813Z
UID:1824-1488710700-1488718800@www.vlbcsac.org
SUMMARY:Praise & Worship Service
DESCRIPTION:
URL:https://www.vlbcsac.org/event/praise-worship-service-5/
LOCATION:Victory Life Bible Church\, 5697 Hillsdale Blvd\, Sacramento\, CA\, 95842\, United States
CATEGORIES:Praise & Worship Service
END:VEVENT
BEGIN:VEVENT
DTSTART;TZID=UTC:20170226T104500
DTEND;TZID=UTC:20170226T130000
DTSTAMP:20260420T124725
CREATED:20170206T003852Z
LAST-MODIFIED:20170221T042152Z
UID:1757-1488105900-1488114000@www.vlbcsac.org
SUMMARY:Praise & Worship Service
DESCRIPTION:
URL:https://www.vlbcsac.org/event/praise-worship-service-4/
LOCATION:Victory Life Bible Church\, 5697 Hillsdale Blvd\, Sacramento\, CA\, 95842\, United States
CATEGORIES:Praise & Worship Service
END:VEVENT
END:VCALENDAR