BEGIN:VCALENDAR
VERSION:2.0
PRODID:-//Victory Life Bible Church, Sacramento - ECPv6.13.2.1//NONSGML v1.0//EN
CALSCALE:GREGORIAN
METHOD:PUBLISH
X-ORIGINAL-URL:https://www.vlbcsac.org
X-WR-CALDESC:Events for Victory Life Bible Church, Sacramento
REFRESH-INTERVAL;VALUE=DURATION:PT1H
X-Robots-Tag:noindex
X-PUBLISHED-TTL:PT1H
BEGIN:VTIMEZONE
TZID:UTC
BEGIN:STANDARD
TZOFFSETFROM:+0000
TZOFFSETTO:+0000
TZNAME:UTC
DTSTART:20170101T000000
END:STANDARD
END:VTIMEZONE
BEGIN:VEVENT
DTSTART;TZID=UTC:20170305T104500
DTEND;TZID=UTC:20170305T130000
DTSTAMP:20260420T140427
CREATED:20170221T044813Z
LAST-MODIFIED:20170221T044813Z
UID:1824-1488710700-1488718800@www.vlbcsac.org
SUMMARY:Praise & Worship Service
DESCRIPTION:
URL:https://www.vlbcsac.org/event/praise-worship-service-5/
LOCATION:Victory Life Bible Church\, 5697 Hillsdale Blvd\, Sacramento\, CA\, 95842\, United States
CATEGORIES:Praise & Worship Service
END:VEVENT
BEGIN:VEVENT
DTSTART;TZID=UTC:20170226T104500
DTEND;TZID=UTC:20170226T130000
DTSTAMP:20260420T140427
CREATED:20170206T003852Z
LAST-MODIFIED:20170221T042152Z
UID:1757-1488105900-1488114000@www.vlbcsac.org
SUMMARY:Praise & Worship Service
DESCRIPTION:
URL:https://www.vlbcsac.org/event/praise-worship-service-4/
LOCATION:Victory Life Bible Church\, 5697 Hillsdale Blvd\, Sacramento\, CA\, 95842\, United States
CATEGORIES:Praise & Worship Service
END:VEVENT
END:VCALENDAR