BEGIN:VCALENDAR
VERSION:2.0
PRODID:-//Victory Life Bible Church, Sacramento - ECPv6.13.2.1//NONSGML v1.0//EN
CALSCALE:GREGORIAN
METHOD:PUBLISH
X-WR-CALNAME:Victory Life Bible Church, Sacramento
X-ORIGINAL-URL:https://www.vlbcsac.org
X-WR-CALDESC:Events for Victory Life Bible Church, Sacramento
REFRESH-INTERVAL;VALUE=DURATION:PT1H
X-Robots-Tag:noindex
X-PUBLISHED-TTL:PT1H
BEGIN:VTIMEZONE
TZID:UTC
BEGIN:STANDARD
TZOFFSETFROM:+0000
TZOFFSETTO:+0000
TZNAME:UTC
DTSTART:20170101T000000
END:STANDARD
END:VTIMEZONE
BEGIN:VEVENT
DTSTART;TZID=UTC:20170805T060000
DTEND;TZID=UTC:20170805T073000
DTSTAMP:20260420T165000
CREATED:20170801T114714Z
LAST-MODIFIED:20170801T114714Z
UID:2095-1501912800-1501918200@www.vlbcsac.org
SUMMARY:Saturday Morning Dew
DESCRIPTION:
URL:https://www.vlbcsac.org/event/saturday-morning-dew-4/
LOCATION:Victory Life Bible Church\, 5697 Hillsdale Blvd\, Sacramento\, CA\, 95842\, United States
CATEGORIES:Saturday Morning Dew
END:VEVENT
BEGIN:VEVENT
DTSTART;TZID=UTC:20170304T060000
DTEND;TZID=UTC:20170304T070000
DTSTAMP:20260420T165000
CREATED:20170103T025812Z
LAST-MODIFIED:20170221T041819Z
UID:1724-1488607200-1488610800@www.vlbcsac.org
SUMMARY:Saturday Morning Dew
DESCRIPTION:
URL:https://www.vlbcsac.org/event/saturday-morning-dew-3/
LOCATION:Victory Life Bible Church\, 5697 Hillsdale Blvd\, Sacramento\, CA\, 95842\, United States
CATEGORIES:Saturday Morning Dew
END:VEVENT
END:VCALENDAR