BEGIN:VCALENDAR
VERSION:2.0
PRODID:-//Victory Life Bible Church, Sacramento - ECPv6.13.2.1//NONSGML v1.0//EN
CALSCALE:GREGORIAN
METHOD:PUBLISH
X-ORIGINAL-URL:https://www.vlbcsac.org
X-WR-CALDESC:Events for Victory Life Bible Church, Sacramento
REFRESH-INTERVAL;VALUE=DURATION:PT1H
X-Robots-Tag:noindex
X-PUBLISHED-TTL:PT1H
BEGIN:VTIMEZONE
TZID:UTC
BEGIN:STANDARD
TZOFFSETFROM:+0000
TZOFFSETTO:+0000
TZNAME:UTC
DTSTART:20170101T000000
END:STANDARD
END:VTIMEZONE
BEGIN:VEVENT
DTSTART;TZID=UTC:20170527T080000
DTEND;TZID=UTC:20170527T110000
DTSTAMP:20260421T183855
CREATED:20170514T221207Z
LAST-MODIFIED:20170514T221207Z
UID:2048-1495872000-1495882800@www.vlbcsac.org
SUMMARY:Royal Ladies Conference Fri-Sun\, May 26-28
DESCRIPTION:Prayer Breakfast\n 
URL:https://www.vlbcsac.org/event/royal-ladies-conference-fri-sun-may-26-28-2/
LOCATION:Victory Life Bible Church\, 5697 Hillsdale Blvd\, Sacramento\, CA\, 95842\, United States
END:VEVENT
BEGIN:VEVENT
DTSTART;TZID=UTC:20170526T190000
DTEND;TZID=UTC:20170526T210000
DTSTAMP:20260421T183855
CREATED:20170514T220911Z
LAST-MODIFIED:20170514T220911Z
UID:2046-1495825200-1495832400@www.vlbcsac.org
SUMMARY:Royal Ladies Conference Fri-Sun\, May 26-28
DESCRIPTION:Worship Service 
URL:https://www.vlbcsac.org/event/royal-ladies-conference-fri-sun-may-26-28/
LOCATION:Victory Life Bible Church\, 5697 Hillsdale Blvd\, Sacramento\, CA\, 95842\, United States
END:VEVENT
BEGIN:VEVENT
DTSTART;TZID=UTC:20170526T080000
DTEND;TZID=UTC:20170526T170000
DTSTAMP:20260421T183855
CREATED:20170306T071830Z
LAST-MODIFIED:20170306T071830Z
UID:1949-1495785600-1495818000@www.vlbcsac.org
SUMMARY:Call to Prayer
DESCRIPTION:
URL:https://www.vlbcsac.org/event/call-to-prayer-15/
LOCATION:Victory Life Bible Church\, 5697 Hillsdale Blvd\, Sacramento\, CA\, 95842\, United States
CATEGORIES:Call to Prayer
END:VEVENT
BEGIN:VEVENT
DTSTART;TZID=UTC:20170524T190000
DTEND;TZID=UTC:20170524T203000
DTSTAMP:20260421T183855
CREATED:20170221T044432Z
LAST-MODIFIED:20170221T044432Z
UID:1820-1495652400-1495657800@www.vlbcsac.org
SUMMARY:Bible Study
DESCRIPTION:
URL:https://www.vlbcsac.org/event/bible-study-46/
LOCATION:Victory Life Bible Church\, 5697 Hillsdale Blvd\, Sacramento\, CA\, 95842\, United States
CATEGORIES:Bible Study
END:VEVENT
BEGIN:VEVENT
DTSTART;TZID=UTC:20170521T100000
DTEND;TZID=UTC:20170521T104500
DTSTAMP:20260421T183855
CREATED:20170327T091601Z
LAST-MODIFIED:20170327T091712Z
UID:1996-1495360800-1495363500@www.vlbcsac.org
SUMMARY:Adult Sunday School
DESCRIPTION:
URL:https://www.vlbcsac.org/event/adult-sunday-school-12/
LOCATION:Victory Life Bible Church\, 5697 Hillsdale Blvd\, Sacramento\, CA\, 95842\, United States
CATEGORIES:Adult Sunday School
END:VEVENT
BEGIN:VEVENT
DTSTART;TZID=UTC:20170519T190000
DTEND;TZID=UTC:20170519T210000
DTSTAMP:20260421T183855
CREATED:20170306T071759Z
LAST-MODIFIED:20170306T071759Z
UID:1947-1495220400-1495227600@www.vlbcsac.org
SUMMARY:Call to Prayer
DESCRIPTION:
URL:https://www.vlbcsac.org/event/call-to-prayer-14/
LOCATION:Victory Life Bible Church\, 5697 Hillsdale Blvd\, Sacramento\, CA\, 95842\, United States
CATEGORIES:Call to Prayer
END:VEVENT
BEGIN:VEVENT
DTSTART;TZID=UTC:20170517T190000
DTEND;TZID=UTC:20170517T203000
DTSTAMP:20260421T183855
CREATED:20170221T044310Z
LAST-MODIFIED:20170221T044327Z
UID:1818-1495047600-1495053000@www.vlbcsac.org
SUMMARY:Bible Study
DESCRIPTION:
URL:https://www.vlbcsac.org/event/bible-study-45/
LOCATION:Victory Life Bible Church\, 5697 Hillsdale Blvd\, Sacramento\, CA\, 95842\, United States
CATEGORIES:Bible Study
END:VEVENT
BEGIN:VEVENT
DTSTART;TZID=UTC:20170514T100000
DTEND;TZID=UTC:20170514T224500
DTSTAMP:20260421T183855
CREATED:20170327T091540Z
LAST-MODIFIED:20170327T091540Z
UID:1994-1494756000-1494801900@www.vlbcsac.org
SUMMARY:Adult Sunday School
DESCRIPTION:
URL:https://www.vlbcsac.org/event/adult-sunday-school-11/
LOCATION:Victory Life Bible Church\, 5697 Hillsdale Blvd\, Sacramento\, CA\, 95842\, United States
CATEGORIES:Adult Sunday School
END:VEVENT
BEGIN:VEVENT
DTSTART;TZID=UTC:20170512T190000
DTEND;TZID=UTC:20170512T210000
DTSTAMP:20260421T183855
CREATED:20170306T071728Z
LAST-MODIFIED:20170306T071728Z
UID:1945-1494615600-1494622800@www.vlbcsac.org
SUMMARY:Call to Prayer
DESCRIPTION:
URL:https://www.vlbcsac.org/event/call-to-prayer-13/
LOCATION:Victory Life Bible Church\, 5697 Hillsdale Blvd\, Sacramento\, CA\, 95842\, United States
CATEGORIES:Call to Prayer
END:VEVENT
BEGIN:VEVENT
DTSTART;TZID=UTC:20170510T190000
DTEND;TZID=UTC:20170510T203000
DTSTAMP:20260421T183855
CREATED:20170221T044232Z
LAST-MODIFIED:20170221T044232Z
UID:1816-1494442800-1494448200@www.vlbcsac.org
SUMMARY:Bible Study
DESCRIPTION:
URL:https://www.vlbcsac.org/event/bible-study-44/
LOCATION:Victory Life Bible Church\, 5697 Hillsdale Blvd\, Sacramento\, CA\, 95842\, United States
CATEGORIES:Bible Study
END:VEVENT
BEGIN:VEVENT
DTSTART;TZID=UTC:20170507T104500
DTEND;TZID=UTC:20170507T130000
DTSTAMP:20260421T183855
CREATED:20170327T092118Z
LAST-MODIFIED:20170327T092118Z
UID:2008-1494153900-1494162000@www.vlbcsac.org
SUMMARY:Praise & Worship Service
DESCRIPTION:
URL:https://www.vlbcsac.org/event/praise-worship-service-14/
LOCATION:Victory Life Bible Church\, 5697 Hillsdale Blvd\, Sacramento\, CA\, 95842\, United States
CATEGORIES:Praise & Worship Service
END:VEVENT
BEGIN:VEVENT
DTSTART;TZID=UTC:20170507T100000
DTEND;TZID=UTC:20170507T104500
DTSTAMP:20260421T183855
CREATED:20170327T091136Z
LAST-MODIFIED:20170327T091136Z
UID:1992-1494151200-1494153900@www.vlbcsac.org
SUMMARY:Adult Sunday School
DESCRIPTION:
URL:https://www.vlbcsac.org/event/adult-sunday-school-10/
LOCATION:Victory Life Bible Church\, 5697 Hillsdale Blvd\, Sacramento\, CA\, 95842\, United States
CATEGORIES:Adult Sunday School
END:VEVENT
BEGIN:VEVENT
DTSTART;TZID=UTC:20170505T190000
DTEND;TZID=UTC:20170505T210000
DTSTAMP:20260421T183855
CREATED:20170306T071656Z
LAST-MODIFIED:20170306T071656Z
UID:1943-1494010800-1494018000@www.vlbcsac.org
SUMMARY:Call to Prayer
DESCRIPTION:
URL:https://www.vlbcsac.org/event/call-to-prayer-12/
LOCATION:Victory Life Bible Church\, 5697 Hillsdale Blvd\, Sacramento\, CA\, 95842\, United States
CATEGORIES:Call to Prayer
END:VEVENT
BEGIN:VEVENT
DTSTART;TZID=UTC:20170503T190000
DTEND;TZID=UTC:20170503T203000
DTSTAMP:20260421T183855
CREATED:20170221T044115Z
LAST-MODIFIED:20170221T044115Z
UID:1814-1493838000-1493843400@www.vlbcsac.org
SUMMARY:Bible Study
DESCRIPTION:
URL:https://www.vlbcsac.org/event/bible-study-43/
LOCATION:Victory Life Bible Church\, 5697 Hillsdale Blvd\, Sacramento\, CA\, 95842\, United States
CATEGORIES:Bible Study
END:VEVENT
BEGIN:VEVENT
DTSTART;TZID=UTC:20170501T100000
DTEND;TZID=UTC:20170501T120000
DTSTAMP:20260421T183855
CREATED:20170327T092448Z
LAST-MODIFIED:20170327T092448Z
UID:2018-1493632800-1493640000@www.vlbcsac.org
SUMMARY:Food Ministry
DESCRIPTION:
URL:https://www.vlbcsac.org/event/food-ministry-10/
LOCATION:Victory Life Bible Church\, 5697 Hillsdale Blvd\, Sacramento\, CA\, 95842\, United States
CATEGORIES:Food Ministry
END:VEVENT
BEGIN:VEVENT
DTSTART;TZID=UTC:20170430T104500
DTEND;TZID=UTC:20170430T130000
DTSTAMP:20260421T183855
CREATED:20170327T092043Z
LAST-MODIFIED:20170327T092043Z
UID:2006-1493549100-1493557200@www.vlbcsac.org
SUMMARY:Praise & Worship Service
DESCRIPTION:
URL:https://www.vlbcsac.org/event/praise-worship-service-13/
LOCATION:Victory Life Bible Church\, 5697 Hillsdale Blvd\, Sacramento\, CA\, 95842\, United States
CATEGORIES:Praise & Worship Service
END:VEVENT
BEGIN:VEVENT
DTSTART;TZID=UTC:20170430T100000
DTEND;TZID=UTC:20170430T104500
DTSTAMP:20260421T183855
CREATED:20170327T091050Z
LAST-MODIFIED:20170327T091307Z
UID:1990-1493546400-1493549100@www.vlbcsac.org
SUMMARY:Adult Sunday School
DESCRIPTION:
URL:https://www.vlbcsac.org/event/adult-sunday-school-9/
LOCATION:Victory Life Bible Church\, 5697 Hillsdale Blvd\, Sacramento\, CA\, 95842\, United States
CATEGORIES:Adult Sunday School
END:VEVENT
BEGIN:VEVENT
DTSTART;TZID=UTC:20170428T190000
DTEND;TZID=UTC:20170428T210000
DTSTAMP:20260421T183855
CREATED:20170306T071623Z
LAST-MODIFIED:20170306T071623Z
UID:1941-1493406000-1493413200@www.vlbcsac.org
SUMMARY:Call to Prayer
DESCRIPTION:
URL:https://www.vlbcsac.org/event/call-to-prayer-11/
LOCATION:Victory Life Bible Church\, 5697 Hillsdale Blvd\, Sacramento\, CA\, 95842\, United States
CATEGORIES:Call to Prayer
END:VEVENT
BEGIN:VEVENT
DTSTART;TZID=UTC:20170426T190000
DTEND;TZID=UTC:20170426T203000
DTSTAMP:20260421T183855
CREATED:20170221T044035Z
LAST-MODIFIED:20170221T044035Z
UID:1812-1493233200-1493238600@www.vlbcsac.org
SUMMARY:Bible Study
DESCRIPTION:
URL:https://www.vlbcsac.org/event/bible-study-42/
LOCATION:Victory Life Bible Church\, 5697 Hillsdale Blvd\, Sacramento\, CA\, 95842\, United States
CATEGORIES:Bible Study
END:VEVENT
BEGIN:VEVENT
DTSTART;TZID=UTC:20170424T100000
DTEND;TZID=UTC:20170424T120000
DTSTAMP:20260421T183855
CREATED:20170327T092312Z
LAST-MODIFIED:20170327T092312Z
UID:2014-1493028000-1493035200@www.vlbcsac.org
SUMMARY:Food Ministry
DESCRIPTION:
URL:https://www.vlbcsac.org/event/food-ministry-8/
LOCATION:Victory Life Bible Church\, 5697 Hillsdale Blvd\, Sacramento\, CA\, 95842\, United States
CATEGORIES:Food Ministry
END:VEVENT
BEGIN:VEVENT
DTSTART;TZID=UTC:20170423T104500
DTEND;TZID=UTC:20170423T130000
DTSTAMP:20260421T183855
CREATED:20170327T091959Z
LAST-MODIFIED:20170327T091959Z
UID:2004-1492944300-1492952400@www.vlbcsac.org
SUMMARY:Praise & Worship Service
DESCRIPTION:
URL:https://www.vlbcsac.org/event/praise-worship-service-12/
LOCATION:Victory Life Bible Church\, 5697 Hillsdale Blvd\, Sacramento\, CA\, 95842\, United States
CATEGORIES:Praise & Worship Service
END:VEVENT
BEGIN:VEVENT
DTSTART;TZID=UTC:20170423T100000
DTEND;TZID=UTC:20170423T104500
DTSTAMP:20260421T183855
CREATED:20170327T091008Z
LAST-MODIFIED:20170327T091217Z
UID:1988-1492941600-1492944300@www.vlbcsac.org
SUMMARY:Adult Sunday School
DESCRIPTION:
URL:https://www.vlbcsac.org/event/adult-sunday-school-8/
LOCATION:Victory Life Bible Church\, 5697 Hillsdale Blvd\, Sacramento\, CA\, 95842\, United States
CATEGORIES:Adult Sunday School
END:VEVENT
BEGIN:VEVENT
DTSTART;TZID=UTC:20170421T190000
DTEND;TZID=UTC:20170421T210000
DTSTAMP:20260421T183855
CREATED:20170306T071544Z
LAST-MODIFIED:20170306T071544Z
UID:1939-1492801200-1492808400@www.vlbcsac.org
SUMMARY:Call to Prayer
DESCRIPTION:
URL:https://www.vlbcsac.org/event/call-to-prayer-10/
LOCATION:Victory Life Bible Church\, 5697 Hillsdale Blvd\, Sacramento\, CA\, 95842\, United States
CATEGORIES:Call to Prayer
END:VEVENT
BEGIN:VEVENT
DTSTART;TZID=UTC:20170419T190000
DTEND;TZID=UTC:20170419T203000
DTSTAMP:20260421T183855
CREATED:20170221T043957Z
LAST-MODIFIED:20170221T043957Z
UID:1810-1492628400-1492633800@www.vlbcsac.org
SUMMARY:Bible Study
DESCRIPTION:
URL:https://www.vlbcsac.org/event/bible-study-41/
LOCATION:Victory Life Bible Church\, 5697 Hillsdale Blvd\, Sacramento\, CA\, 95842\, United States
CATEGORIES:Bible Study
END:VEVENT
BEGIN:VEVENT
DTSTART;TZID=UTC:20170417T100000
DTEND;TZID=UTC:20170417T120000
DTSTAMP:20260421T183855
CREATED:20170327T092234Z
LAST-MODIFIED:20170327T092234Z
UID:2012-1492423200-1492430400@www.vlbcsac.org
SUMMARY:Food Ministry
DESCRIPTION:
URL:https://www.vlbcsac.org/event/food-ministry-7/
LOCATION:Victory Life Bible Church\, 5697 Hillsdale Blvd\, Sacramento\, CA\, 95842\, United States
CATEGORIES:Food Ministry
END:VEVENT
BEGIN:VEVENT
DTSTART;TZID=UTC:20170416T104500
DTEND;TZID=UTC:20170416T130000
DTSTAMP:20260421T183855
CREATED:20170327T091928Z
LAST-MODIFIED:20170327T091928Z
UID:2002-1492339500-1492347600@www.vlbcsac.org
SUMMARY:Praise & Worship Service
DESCRIPTION:
URL:https://www.vlbcsac.org/event/praise-worship-service-11/
LOCATION:Victory Life Bible Church\, 5697 Hillsdale Blvd\, Sacramento\, CA\, 95842\, United States
CATEGORIES:Praise & Worship Service
END:VEVENT
BEGIN:VEVENT
DTSTART;TZID=UTC:20170416T100000
DTEND;TZID=UTC:20170416T104500
DTSTAMP:20260421T183855
CREATED:20170327T090931Z
LAST-MODIFIED:20170327T091451Z
UID:1986-1492336800-1492339500@www.vlbcsac.org
SUMMARY:Adult Sunday School
DESCRIPTION:
URL:https://www.vlbcsac.org/event/adult-sunday-school-7/
LOCATION:Victory Life Bible Church\, 5697 Hillsdale Blvd\, Sacramento\, CA\, 95842\, United States
CATEGORIES:Adult Sunday School
END:VEVENT
BEGIN:VEVENT
DTSTART;TZID=UTC:20170414T190000
DTEND;TZID=UTC:20170414T210000
DTSTAMP:20260421T183855
CREATED:20170306T071510Z
LAST-MODIFIED:20170306T071510Z
UID:1937-1492196400-1492203600@www.vlbcsac.org
SUMMARY:Call to Prayer
DESCRIPTION:
URL:https://www.vlbcsac.org/event/call-to-prayer-9/
LOCATION:Victory Life Bible Church\, 5697 Hillsdale Blvd\, Sacramento\, CA\, 95842\, United States
CATEGORIES:Call to Prayer
END:VEVENT
BEGIN:VEVENT
DTSTART;TZID=UTC:20170412T190000
DTEND;TZID=UTC:20170412T203000
DTSTAMP:20260421T183855
CREATED:20170221T043923Z
LAST-MODIFIED:20170221T043923Z
UID:1808-1492023600-1492029000@www.vlbcsac.org
SUMMARY:Bible Study
DESCRIPTION:
URL:https://www.vlbcsac.org/event/bible-study-40/
LOCATION:Victory Life Bible Church\, 5697 Hillsdale Blvd\, Sacramento\, CA\, 95842\, United States
CATEGORIES:Bible Study
END:VEVENT
BEGIN:VEVENT
DTSTART;TZID=UTC:20170410T100000
DTEND;TZID=UTC:20170410T120000
DTSTAMP:20260421T183855
CREATED:20170327T092157Z
LAST-MODIFIED:20170327T092157Z
UID:2010-1491818400-1491825600@www.vlbcsac.org
SUMMARY:Food Ministry
DESCRIPTION:
URL:https://www.vlbcsac.org/event/food-ministry-6/
LOCATION:Victory Life Bible Church\, 5697 Hillsdale Blvd\, Sacramento\, CA\, 95842\, United States
CATEGORIES:Food Ministry
END:VEVENT
END:VCALENDAR