BEGIN:VCALENDAR
VERSION:2.0
PRODID:-//Victory Life Bible Church, Sacramento - ECPv6.13.2.1//NONSGML v1.0//EN
CALSCALE:GREGORIAN
METHOD:PUBLISH
X-ORIGINAL-URL:https://www.vlbcsac.org
X-WR-CALDESC:Events for Victory Life Bible Church, Sacramento
REFRESH-INTERVAL;VALUE=DURATION:PT1H
X-Robots-Tag:noindex
X-PUBLISHED-TTL:PT1H
BEGIN:VTIMEZONE
TZID:UTC
BEGIN:STANDARD
TZOFFSETFROM:+0000
TZOFFSETTO:+0000
TZNAME:UTC
DTSTART:20180101T000000
END:STANDARD
END:VTIMEZONE
BEGIN:VEVENT
DTSTART;TZID=UTC:20190324T104500
DTEND;TZID=UTC:20190324T130000
DTSTAMP:20260421T045039
CREATED:20190304T150505Z
LAST-MODIFIED:20190304T150505Z
UID:2576-1553424300-1553432400@www.vlbcsac.org
SUMMARY:Family Sunday
DESCRIPTION:
URL:https://www.vlbcsac.org/event/family-sunday/
LOCATION:Victory Life Bible Church\, 5697 Hillsdale Blvd\, Sacramento\, CA\, 95842\, United States
END:VEVENT
BEGIN:VEVENT
DTSTART;TZID=UTC:20190310T104500
DTEND;TZID=UTC:20190310T130000
DTSTAMP:20260421T045039
CREATED:20190304T150414Z
LAST-MODIFIED:20190304T150414Z
UID:2574-1552214700-1552222800@www.vlbcsac.org
SUMMARY:Women's Day
DESCRIPTION:
URL:https://www.vlbcsac.org/event/womens-day/
LOCATION:Victory Life Bible Church\, 5697 Hillsdale Blvd\, Sacramento\, CA\, 95842\, United States
END:VEVENT
BEGIN:VEVENT
DTSTART;TZID=UTC:20190106T104500
DTEND;TZID=UTC:20190106T130000
DTSTAMP:20260421T045039
CREATED:20181229T115043Z
LAST-MODIFIED:20181229T115703Z
UID:2516-1546771500-1546779600@www.vlbcsac.org
SUMMARY:New Year Thanksgiving Service
DESCRIPTION:
URL:https://www.vlbcsac.org/event/new-year-thanksgiving-service/
LOCATION:Victory Life Bible Church\, 5697 Hillsdale Blvd\, Sacramento\, CA\, 95842\, United States
END:VEVENT
BEGIN:VEVENT
DTSTART;TZID=UTC:20181231T210000
DTEND;TZID=UTC:20181231T210000
DTSTAMP:20260421T045039
CREATED:20181208T235458Z
LAST-MODIFIED:20181208T235458Z
UID:2485-1546290000-1546290000@www.vlbcsac.org
SUMMARY:Watch Night Service 2018
DESCRIPTION:
URL:https://www.vlbcsac.org/event/watch-night-service-2018/
LOCATION:Victory Life Bible Church\, 5697 Hillsdale Blvd\, Sacramento\, CA\, 95842\, United States
END:VEVENT
BEGIN:VEVENT
DTSTART;TZID=UTC:20181222T180000
DTEND;TZID=UTC:20181222T203000
DTSTAMP:20260421T045039
CREATED:20181208T235558Z
LAST-MODIFIED:20181211T143400Z
UID:2487-1545501600-1545510600@www.vlbcsac.org
SUMMARY:Christmas Carol Service
DESCRIPTION:
URL:https://www.vlbcsac.org/event/christmas-carol-service/
LOCATION:Victory Life Bible Church\, 5697 Hillsdale Blvd\, Sacramento\, CA\, 95842\, United States
END:VEVENT
BEGIN:VEVENT
DTSTART;TZID=UTC:20181221T190000
DTEND;TZID=UTC:20181224T130000
DTSTAMP:20260421T045039
CREATED:20181208T235755Z
LAST-MODIFIED:20181211T141256Z
UID:2489-1545418800-1545656400@www.vlbcsac.org
SUMMARY:Stepping into a New Season
DESCRIPTION:
URL:https://www.vlbcsac.org/event/stepping-into-a-new-season/
LOCATION:Victory Life Bible Church\, 5697 Hillsdale Blvd\, Sacramento\, CA\, 95842\, United States
END:VEVENT
BEGIN:VEVENT
DTSTART;TZID=UTC:20181031T190000
DTEND;TZID=UTC:20181031T203000
DTSTAMP:20260421T045039
CREATED:20181007T223354Z
LAST-MODIFIED:20181007T223354Z
UID:2447-1541012400-1541017800@www.vlbcsac.org
SUMMARY:Bible Study
DESCRIPTION:
URL:https://www.vlbcsac.org/event/bible-study-65/
LOCATION:Victory Life Bible Church\, 5697 Hillsdale Blvd\, Sacramento\, CA\, 95842\, United States
CATEGORIES:Bible Study
END:VEVENT
BEGIN:VEVENT
DTSTART;TZID=UTC:20181029T100000
DTEND;TZID=UTC:20181029T110000
DTSTAMP:20260421T045039
CREATED:20181007T223052Z
LAST-MODIFIED:20181007T223052Z
UID:2439-1540807200-1540810800@www.vlbcsac.org
SUMMARY:Food Ministry - Food Distribution
DESCRIPTION:
URL:https://www.vlbcsac.org/event/food-ministry-food-distribution-4/
LOCATION:Victory Life Bible Church\, 5697 Hillsdale Blvd\, Sacramento\, CA\, 95842\, United States
CATEGORIES:Food Ministry
END:VEVENT
BEGIN:VEVENT
DTSTART;TZID=UTC:20181028T104500
DTEND;TZID=UTC:20181028T130000
DTSTAMP:20260421T045039
CREATED:20181007T224119Z
LAST-MODIFIED:20181007T224119Z
UID:2465-1540723500-1540731600@www.vlbcsac.org
SUMMARY:Praise & Worship Service
DESCRIPTION:
URL:https://www.vlbcsac.org/event/praise-worship-service-25/
LOCATION:Victory Life Bible Church\, 5697 Hillsdale Blvd\, Sacramento\, CA\, 95842\, United States
CATEGORIES:Praise & Worship Service
END:VEVENT
BEGIN:VEVENT
DTSTART;TZID=UTC:20181028T100000
DTEND;TZID=UTC:20181028T104500
DTSTAMP:20260421T045039
CREATED:20181007T223902Z
LAST-MODIFIED:20181007T223902Z
UID:2459-1540720800-1540723500@www.vlbcsac.org
SUMMARY:Adult Sunday School
DESCRIPTION:
URL:https://www.vlbcsac.org/event/adult-sunday-school-24/
LOCATION:Victory Life Bible Church\, 5697 Hillsdale Blvd\, Sacramento\, CA\, 95842\, United States
CATEGORIES:Adult Sunday School
END:VEVENT
BEGIN:VEVENT
DTSTART;TZID=UTC:20181026T190000
DTEND;TZID=UTC:20181026T210000
DTSTAMP:20260421T045039
CREATED:20181007T223611Z
LAST-MODIFIED:20181007T223611Z
UID:2453-1540580400-1540587600@www.vlbcsac.org
SUMMARY:Call to Prayer
DESCRIPTION:
URL:https://www.vlbcsac.org/event/call-to-prayer-30/
LOCATION:Victory Life Bible Church\, 5697 Hillsdale Blvd\, Sacramento\, CA\, 95842\, United States
CATEGORIES:Call to Prayer
END:VEVENT
BEGIN:VEVENT
DTSTART;TZID=UTC:20181024T190000
DTEND;TZID=UTC:20181024T203000
DTSTAMP:20260421T045039
CREATED:20181007T223316Z
LAST-MODIFIED:20181007T223316Z
UID:2445-1540407600-1540413000@www.vlbcsac.org
SUMMARY:Bible Study
DESCRIPTION:
URL:https://www.vlbcsac.org/event/bible-study-64/
LOCATION:Victory Life Bible Church\, 5697 Hillsdale Blvd\, Sacramento\, CA\, 95842\, United States
CATEGORIES:Bible Study
END:VEVENT
BEGIN:VEVENT
DTSTART;TZID=UTC:20181022T100000
DTEND;TZID=UTC:20181022T230000
DTSTAMP:20260421T045039
CREATED:20181007T223018Z
LAST-MODIFIED:20181007T223018Z
UID:2437-1540202400-1540249200@www.vlbcsac.org
SUMMARY:Food Ministry - Food Distribution
DESCRIPTION:
URL:https://www.vlbcsac.org/event/food-ministry-food-distribution-3/
LOCATION:Victory Life Bible Church\, 5697 Hillsdale Blvd\, Sacramento\, CA\, 95842\, United States
CATEGORIES:Food Ministry
END:VEVENT
BEGIN:VEVENT
DTSTART;TZID=UTC:20181021T104500
DTEND;TZID=UTC:20181021T130000
DTSTAMP:20260421T045039
CREATED:20181007T224041Z
LAST-MODIFIED:20181007T224041Z
UID:2463-1540118700-1540126800@www.vlbcsac.org
SUMMARY:Praise & Worship Service
DESCRIPTION:
URL:https://www.vlbcsac.org/event/praise-worship-service-24/
LOCATION:Victory Life Bible Church\, 5697 Hillsdale Blvd\, Sacramento\, CA\, 95842\, United States
CATEGORIES:Praise & Worship Service
END:VEVENT
BEGIN:VEVENT
DTSTART;TZID=UTC:20181021T100000
DTEND;TZID=UTC:20181021T104500
DTSTAMP:20260421T045039
CREATED:20181007T223829Z
LAST-MODIFIED:20181007T223829Z
UID:2457-1540116000-1540118700@www.vlbcsac.org
SUMMARY:Adult Sunday School
DESCRIPTION:
URL:https://www.vlbcsac.org/event/adult-sunday-school-23/
LOCATION:Victory Life Bible Church\, 5697 Hillsdale Blvd\, Sacramento\, CA\, 95842\, United States
CATEGORIES:Adult Sunday School
END:VEVENT
BEGIN:VEVENT
DTSTART;TZID=UTC:20181019T190000
DTEND;TZID=UTC:20181019T210000
DTSTAMP:20260421T045039
CREATED:20181007T223534Z
LAST-MODIFIED:20181007T223534Z
UID:2451-1539975600-1539982800@www.vlbcsac.org
SUMMARY:Call to Prayer
DESCRIPTION:
URL:https://www.vlbcsac.org/event/call-to-prayer-29/
LOCATION:Victory Life Bible Church\, 5697 Hillsdale Blvd\, Sacramento\, CA\, 95842\, United States
CATEGORIES:Call to Prayer
END:VEVENT
BEGIN:VEVENT
DTSTART;TZID=UTC:20181017T190000
DTEND;TZID=UTC:20181017T203000
DTSTAMP:20260421T045039
CREATED:20181007T223235Z
LAST-MODIFIED:20181007T223235Z
UID:2443-1539802800-1539808200@www.vlbcsac.org
SUMMARY:Bible Study
DESCRIPTION:
URL:https://www.vlbcsac.org/event/bible-study-63/
LOCATION:Victory Life Bible Church\, 5697 Hillsdale Blvd\, Sacramento\, CA\, 95842\, United States
CATEGORIES:Bible Study
END:VEVENT
BEGIN:VEVENT
DTSTART;TZID=UTC:20181015T100000
DTEND;TZID=UTC:20181015T110000
DTSTAMP:20260421T045039
CREATED:20181007T222942Z
LAST-MODIFIED:20181007T222942Z
UID:2435-1539597600-1539601200@www.vlbcsac.org
SUMMARY:Food Ministry - Food Distribution
DESCRIPTION:
URL:https://www.vlbcsac.org/event/food-ministry-food-distribution-2/
LOCATION:Victory Life Bible Church\, 5697 Hillsdale Blvd\, Sacramento\, CA\, 95842\, United States
CATEGORIES:Food Ministry
END:VEVENT
BEGIN:VEVENT
DTSTART;TZID=UTC:20181014T104500
DTEND;TZID=UTC:20181014T130000
DTSTAMP:20260421T045039
CREATED:20181007T224000Z
LAST-MODIFIED:20181007T224000Z
UID:2461-1539513900-1539522000@www.vlbcsac.org
SUMMARY:Praise & Worship Service
DESCRIPTION:
URL:https://www.vlbcsac.org/event/praise-worship-service-23/
LOCATION:Victory Life Bible Church\, 5697 Hillsdale Blvd\, Sacramento\, CA\, 95842\, United States
CATEGORIES:Praise & Worship Service
END:VEVENT
BEGIN:VEVENT
DTSTART;TZID=UTC:20181014T100000
DTEND;TZID=UTC:20181014T104500
DTSTAMP:20260421T045039
CREATED:20181007T223746Z
LAST-MODIFIED:20181007T223746Z
UID:2455-1539511200-1539513900@www.vlbcsac.org
SUMMARY:Adult Sunday School
DESCRIPTION:
URL:https://www.vlbcsac.org/event/adult-sunday-school-22/
LOCATION:Victory Life Bible Church\, 5697 Hillsdale Blvd\, Sacramento\, CA\, 95842\, United States
CATEGORIES:Adult Sunday School
END:VEVENT
BEGIN:VEVENT
DTSTART;TZID=UTC:20181012T190000
DTEND;TZID=UTC:20181012T210000
DTSTAMP:20260421T045039
CREATED:20181007T223452Z
LAST-MODIFIED:20181007T223452Z
UID:2449-1539370800-1539378000@www.vlbcsac.org
SUMMARY:Call to Prayer
DESCRIPTION:
URL:https://www.vlbcsac.org/event/call-to-prayer-28/
LOCATION:Victory Life Bible Church\, 5697 Hillsdale Blvd\, Sacramento\, CA\, 95842\, United States
CATEGORIES:Call to Prayer
END:VEVENT
BEGIN:VEVENT
DTSTART;TZID=UTC:20181010T190000
DTEND;TZID=UTC:20181010T203000
DTSTAMP:20260421T045039
CREATED:20181007T223147Z
LAST-MODIFIED:20181007T223147Z
UID:2441-1539198000-1539203400@www.vlbcsac.org
SUMMARY:Bible Study
DESCRIPTION:
URL:https://www.vlbcsac.org/event/bible-study-62/
LOCATION:Victory Life Bible Church\, 5697 Hillsdale Blvd\, Sacramento\, CA\, 95842\, United States
CATEGORIES:Bible Study
END:VEVENT
BEGIN:VEVENT
DTSTART;TZID=UTC:20181008T100000
DTEND;TZID=UTC:20181008T110000
DTSTAMP:20260421T045039
CREATED:20181007T222858Z
LAST-MODIFIED:20181007T222858Z
UID:2433-1538992800-1538996400@www.vlbcsac.org
SUMMARY:Food Ministry - Food Distribution
DESCRIPTION:
URL:https://www.vlbcsac.org/event/food-ministry-food-distribution/
LOCATION:Victory Life Bible Church\, 5697 Hillsdale Blvd\, Sacramento\, CA\, 95842\, United States
CATEGORIES:Food Ministry
END:VEVENT
BEGIN:VEVENT
DTSTART;TZID=UTC:20181007T103000
DTEND;TZID=UTC:20181007T130000
DTSTAMP:20260421T045039
CREATED:20181007T222724Z
LAST-MODIFIED:20181007T222724Z
UID:2431-1538908200-1538917200@www.vlbcsac.org
SUMMARY:Family & Friends Sunday Service
DESCRIPTION:
URL:https://www.vlbcsac.org/event/family-friends-sunday-service/
LOCATION:Victory Life Bible Church\, 5697 Hillsdale Blvd\, Sacramento\, CA\, 95842\, United States
END:VEVENT
BEGIN:VEVENT
DTSTART;TZID=UTC:20180816T193000
DTEND;TZID=UTC:20180820T190000
DTSTAMP:20260421T045039
CREATED:20180506T005922Z
LAST-MODIFIED:20180628T125709Z
UID:2332-1534447800-1534791600@www.vlbcsac.org
SUMMARY:15th Church Anniversary
DESCRIPTION:https://www.vlbcsac.org/hp_wordpress/wp-content/uploads/2018/06/WRBN8334.mp4
URL:https://www.vlbcsac.org/event/16th-church-anniversary/
LOCATION:Victory Life Bible Church\, 5697 Hillsdale Blvd\, Sacramento\, CA\, 95842\, United States
END:VEVENT
BEGIN:VEVENT
DTSTART;TZID=UTC:20180728T170000
DTEND;TZID=UTC:20180728T200000
DTSTAMP:20260421T045039
CREATED:20180506T005650Z
LAST-MODIFIED:20180628T122857Z
UID:2327-1532797200-1532808000@www.vlbcsac.org
SUMMARY:African Praise Night with Progressive COGIC
DESCRIPTION:
URL:https://www.vlbcsac.org/event/african-praise-night-with-progressive-cogic/
LOCATION:Progressive COGIC 2251 <eadowview Rd.\, 2251 Meadowview Rd.\, Sacramento\, CA
END:VEVENT
BEGIN:VEVENT
DTSTART;TZID=UTC:20180714T120000
DTEND;TZID=UTC:20180714T183000
DTSTAMP:20260421T045039
CREATED:20180506T005437Z
LAST-MODIFIED:20180628T123011Z
UID:2325-1531569600-1531593000@www.vlbcsac.org
SUMMARY:Parking Lot Picnic
DESCRIPTION:
URL:https://www.vlbcsac.org/event/parking-lot-picnic/
LOCATION:Victory Life Bible Church\, 5697 Hillsdale Blvd\, Sacramento\, CA\, 95842\, United States
END:VEVENT
BEGIN:VEVENT
DTSTART;TZID=UTC:20180617T104500
DTEND;TZID=UTC:20180617T133000
DTSTAMP:20260421T045039
CREATED:20180506T005734Z
LAST-MODIFIED:20180506T005734Z
UID:2330-1529232300-1529242200@www.vlbcsac.org
SUMMARY:Father's Day Service
DESCRIPTION:
URL:https://www.vlbcsac.org/event/fathers-day-service/
LOCATION:Victory Life Bible Church\, 5697 Hillsdale Blvd\, Sacramento\, CA\, 95842\, United States
END:VEVENT
BEGIN:VEVENT
DTSTART;TZID=UTC:20180530T190000
DTEND;TZID=UTC:20180530T203000
DTSTAMP:20260421T045039
CREATED:20180506T012319Z
LAST-MODIFIED:20180506T012319Z
UID:2354-1527706800-1527712200@www.vlbcsac.org
SUMMARY:Bible Study
DESCRIPTION:
URL:https://www.vlbcsac.org/event/bible-study-61/
LOCATION:Victory Life Bible Church\, 5697 Hillsdale Blvd\, Sacramento\, CA\, 95842\, United States
CATEGORIES:Bible Study
END:VEVENT
BEGIN:VEVENT
DTSTART;TZID=UTC:20180528T190000
DTEND;TZID=UTC:20180528T203000
DTSTAMP:20260421T045039
CREATED:20180506T010330Z
LAST-MODIFIED:20180506T010330Z
UID:2334-1527534000-1527539400@www.vlbcsac.org
SUMMARY:Worker's Prayer Meeting
DESCRIPTION:
URL:https://www.vlbcsac.org/event/workers-prayer-meeting-15/
LOCATION:Victory Life Bible Church\, 5697 Hillsdale Blvd\, Sacramento\, CA\, 95842\, United States
CATEGORIES:Workers Prayer Meeting
END:VEVENT
END:VCALENDAR