BEGIN:VCALENDAR
VERSION:2.0
PRODID:-//Victory Life Bible Church, Sacramento - ECPv6.13.2.1//NONSGML v1.0//EN
CALSCALE:GREGORIAN
METHOD:PUBLISH
X-WR-CALNAME:Victory Life Bible Church, Sacramento
X-ORIGINAL-URL:https://www.vlbcsac.org
X-WR-CALDESC:Events for Victory Life Bible Church, Sacramento
REFRESH-INTERVAL;VALUE=DURATION:PT1H
X-Robots-Tag:noindex
X-PUBLISHED-TTL:PT1H
BEGIN:VTIMEZONE
TZID:UTC
BEGIN:STANDARD
TZOFFSETFROM:+0000
TZOFFSETTO:+0000
TZNAME:UTC
DTSTART:20160101T000000
END:STANDARD
END:VTIMEZONE
BEGIN:VEVENT
DTSTART;TZID=UTC:20170127T190000
DTEND;TZID=UTC:20170127T210000
DTSTAMP:20260422T071735
CREATED:20170103T025124Z
LAST-MODIFIED:20170103T025124Z
UID:1718-1485543600-1485550800@www.vlbcsac.org
SUMMARY:Intercessory Prayer
DESCRIPTION:
URL:https://www.vlbcsac.org/event/intercessory-prayer-27/
LOCATION:Victory Life Bible Church\, 5697 Hillsdale Blvd\, Sacramento\, CA\, 95842\, United States
END:VEVENT
BEGIN:VEVENT
DTSTART;TZID=UTC:20170125T190000
DTEND;TZID=UTC:20170125T193000
DTSTAMP:20260422T071735
CREATED:20170103T024839Z
LAST-MODIFIED:20170103T024839Z
UID:1710-1485370800-1485372600@www.vlbcsac.org
SUMMARY:Bible Study
DESCRIPTION:
URL:https://www.vlbcsac.org/event/bible-study-30/
LOCATION:Victory Life Bible Church\, 5697 Hillsdale Blvd\, Sacramento\, CA\, 95842\, United States
END:VEVENT
BEGIN:VEVENT
DTSTART;TZID=UTC:20170120T190000
DTEND;TZID=UTC:20170120T210000
DTSTAMP:20260422T071735
CREATED:20170103T025055Z
LAST-MODIFIED:20170103T025055Z
UID:1716-1484938800-1484946000@www.vlbcsac.org
SUMMARY:Intercessory Prayer
DESCRIPTION:
URL:https://www.vlbcsac.org/event/intercessory-prayer-26/
LOCATION:Victory Life Bible Church\, 5697 Hillsdale Blvd\, Sacramento\, CA\, 95842\, United States
END:VEVENT
BEGIN:VEVENT
DTSTART;TZID=UTC:20170118T190000
DTEND;TZID=UTC:20170118T203000
DTSTAMP:20260422T071735
CREATED:20170103T024808Z
LAST-MODIFIED:20170103T024808Z
UID:1708-1484766000-1484771400@www.vlbcsac.org
SUMMARY:Bible Study
DESCRIPTION:
URL:https://www.vlbcsac.org/event/bible-study-29/
LOCATION:Victory Life Bible Church\, 5697 Hillsdale Blvd\, Sacramento\, CA\, 95842\, United States
END:VEVENT
BEGIN:VEVENT
DTSTART;TZID=UTC:20170113T190000
DTEND;TZID=UTC:20170113T210000
DTSTAMP:20260422T071735
CREATED:20170103T025026Z
LAST-MODIFIED:20170103T025026Z
UID:1714-1484334000-1484341200@www.vlbcsac.org
SUMMARY:Intercessory Prayer
DESCRIPTION:
URL:https://www.vlbcsac.org/event/intercessory-prayer-25/
LOCATION:Victory Life Bible Church\, 5697 Hillsdale Blvd\, Sacramento\, CA\, 95842\, United States
END:VEVENT
BEGIN:VEVENT
DTSTART;TZID=UTC:20170111T190000
DTEND;TZID=UTC:20170111T203000
DTSTAMP:20260422T071735
CREATED:20170103T024740Z
LAST-MODIFIED:20170103T024740Z
UID:1706-1484161200-1484166600@www.vlbcsac.org
SUMMARY:Bible Study
DESCRIPTION:
URL:https://www.vlbcsac.org/event/bible-study-28/
LOCATION:Victory Life Bible Church\, 5697 Hillsdale Blvd\, Sacramento\, CA\, 95842\, United States
END:VEVENT
BEGIN:VEVENT
DTSTART;TZID=UTC:20170109T100000
DTEND;TZID=UTC:20170109T110000
DTSTAMP:20260422T071735
CREATED:20170103T030209Z
LAST-MODIFIED:20170103T030209Z
UID:1728-1483956000-1483959600@www.vlbcsac.org
SUMMARY:Prayer and Evangelism Round-up
DESCRIPTION:
URL:https://www.vlbcsac.org/event/prayer-and-evangelism-round-up-2/
LOCATION:Victory Life Bible Church\, 5697 Hillsdale Blvd\, Sacramento\, CA\, 95842\, United States
END:VEVENT
BEGIN:VEVENT
DTSTART;TZID=UTC:20170108T090000
DTEND;TZID=UTC:20170108T100000
DTSTAMP:20260422T071735
CREATED:20170103T030109Z
LAST-MODIFIED:20170103T030109Z
UID:1726-1483866000-1483869600@www.vlbcsac.org
SUMMARY:Prayer and Evangelism Round-up
DESCRIPTION:
URL:https://www.vlbcsac.org/event/prayer-and-evangelism-round-up/
LOCATION:Victory Life Bible Church\, 5697 Hillsdale Blvd\, Sacramento\, CA\, 95842\, United States
END:VEVENT
BEGIN:VEVENT
DTSTART;TZID=UTC:20170107T060000
DTEND;TZID=UTC:20170107T070000
DTSTAMP:20260422T071735
CREATED:20170103T025634Z
LAST-MODIFIED:20170103T025634Z
UID:1720-1483768800-1483772400@www.vlbcsac.org
SUMMARY:Saturday Morning Dew
DESCRIPTION:
URL:https://www.vlbcsac.org/event/saturday-morning-dew/
LOCATION:Victory Life Bible Church\, 5697 Hillsdale Blvd\, Sacramento\, CA\, 95842\, United States
END:VEVENT
BEGIN:VEVENT
DTSTART;TZID=UTC:20170106T190000
DTEND;TZID=UTC:20170106T210000
DTSTAMP:20260422T071735
CREATED:20170103T024957Z
LAST-MODIFIED:20170103T024957Z
UID:1712-1483729200-1483736400@www.vlbcsac.org
SUMMARY:Intercessory Prayer
DESCRIPTION:
URL:https://www.vlbcsac.org/event/intercessory-prayer-22/
LOCATION:Victory Life Bible Church\, 5697 Hillsdale Blvd\, Sacramento\, CA\, 95842\, United States
END:VEVENT
BEGIN:VEVENT
DTSTART;TZID=UTC:20170104T190000
DTEND;TZID=UTC:20170104T203000
DTSTAMP:20260422T071735
CREATED:20170103T024709Z
LAST-MODIFIED:20170103T024709Z
UID:1704-1483556400-1483561800@www.vlbcsac.org
SUMMARY:Bible Study
DESCRIPTION:
URL:https://www.vlbcsac.org/event/bible-study-27/
LOCATION:Victory Life Bible Church\, 5697 Hillsdale Blvd\, Sacramento\, CA\, 95842\, United States
END:VEVENT
BEGIN:VEVENT
DTSTART;TZID=UTC:20161231T210000
DTEND;TZID=UTC:20170101T010000
DTSTAMP:20260422T071735
CREATED:20161205T012015Z
LAST-MODIFIED:20161205T012034Z
UID:1674-1483218000-1483232400@www.vlbcsac.org
SUMMARY:Watch Night service
DESCRIPTION:
URL:https://www.vlbcsac.org/event/watch-night-service/
LOCATION:Victory Life Bible Church\, 5697 Hillsdale Blvd\, Sacramento\, CA\, 95842\, United States
END:VEVENT
BEGIN:VEVENT
DTSTART;TZID=UTC:20161230T070000
DTEND;TZID=UTC:20161230T210000
DTSTAMP:20260422T071735
CREATED:20161205T013220Z
LAST-MODIFIED:20161205T013220Z
UID:1699-1483081200-1483131600@www.vlbcsac.org
SUMMARY:Intercessory Prayer
DESCRIPTION:
URL:https://www.vlbcsac.org/event/intercessory-prayer-24/
LOCATION:Victory Life Bible Church\, 5697 Hillsdale Blvd\, Sacramento\, CA\, 95842\, United States
END:VEVENT
BEGIN:VEVENT
DTSTART;TZID=UTC:20161228T190000
DTEND;TZID=UTC:20161228T203000
DTSTAMP:20260422T071735
CREATED:20161205T013011Z
LAST-MODIFIED:20161205T013011Z
UID:1691-1482951600-1482957000@www.vlbcsac.org
SUMMARY:Bible Study
DESCRIPTION:
URL:https://www.vlbcsac.org/event/bible-study-26/
LOCATION:Victory Life Bible Church\, 5697 Hillsdale Blvd\, Sacramento\, CA\, 95842\, United States
END:VEVENT
BEGIN:VEVENT
DTSTART;TZID=UTC:20161224T060000
DTEND;TZID=UTC:20161224T200000
DTSTAMP:20260422T071735
CREATED:20161205T012430Z
LAST-MODIFIED:20161205T012430Z
UID:1683-1482559200-1482609600@www.vlbcsac.org
SUMMARY:Christmas Eve Service
DESCRIPTION:
URL:https://www.vlbcsac.org/event/christmas-eve-service/
LOCATION:Victory Life Bible Church\, 5697 Hillsdale Blvd\, Sacramento\, CA\, 95842\, United States
END:VEVENT
BEGIN:VEVENT
DTSTART;TZID=UTC:20161223T190000
DTEND;TZID=UTC:20161223T210000
DTSTAMP:20260422T071735
CREATED:20161205T013155Z
LAST-MODIFIED:20161205T013155Z
UID:1697-1482519600-1482526800@www.vlbcsac.org
SUMMARY:Intercessory Prayer
DESCRIPTION:
URL:https://www.vlbcsac.org/event/intercessory-prayer-23/
LOCATION:Victory Life Bible Church\, 5697 Hillsdale Blvd\, Sacramento\, CA\, 95842\, United States
END:VEVENT
BEGIN:VEVENT
DTSTART;TZID=UTC:20161221T190000
DTEND;TZID=UTC:20161221T200000
DTSTAMP:20260422T071735
CREATED:20161205T012946Z
LAST-MODIFIED:20161205T012946Z
UID:1689-1482346800-1482350400@www.vlbcsac.org
SUMMARY:Bible Study
DESCRIPTION:
URL:https://www.vlbcsac.org/event/bible-study-25/
LOCATION:Victory Life Bible Church\, 5697 Hillsdale Blvd\, Sacramento\, CA\, 95842\, United States
END:VEVENT
BEGIN:VEVENT
DTSTART;TZID=UTC:20161218T103000
DTEND;TZID=UTC:20161218T130000
DTSTAMP:20260422T071735
CREATED:20161205T012342Z
LAST-MODIFIED:20161205T012342Z
UID:1681-1482057000-1482066000@www.vlbcsac.org
SUMMARY:The Set Time
DESCRIPTION:
URL:https://www.vlbcsac.org/event/the-set-time-2/
LOCATION:Victory Life Bible Church\, 5697 Hillsdale Blvd\, Sacramento\, CA\, 95842\, United States
END:VEVENT
BEGIN:VEVENT
DTSTART;TZID=UTC:20161216T190000
DTEND;TZID=UTC:20161217T190000
DTSTAMP:20260422T071735
CREATED:20161205T012300Z
LAST-MODIFIED:20161205T012300Z
UID:1678-1481914800-1482001200@www.vlbcsac.org
SUMMARY:The Set Time
DESCRIPTION:
URL:https://www.vlbcsac.org/event/the-set-time/
LOCATION:Victory Life Bible Church\, 5697 Hillsdale Blvd\, Sacramento\, CA\, 95842\, United States
END:VEVENT
BEGIN:VEVENT
DTSTART;TZID=UTC:20161214T190000
DTEND;TZID=UTC:20161214T203000
DTSTAMP:20260422T071735
CREATED:20161205T012920Z
LAST-MODIFIED:20161205T012920Z
UID:1687-1481742000-1481747400@www.vlbcsac.org
SUMMARY:Bible Study
DESCRIPTION:
URL:https://www.vlbcsac.org/event/bible-study-24/
LOCATION:Victory Life Bible Church\, 5697 Hillsdale Blvd\, Sacramento\, CA\, 95842\, United States
END:VEVENT
BEGIN:VEVENT
DTSTART;TZID=UTC:20161209T190000
DTEND;TZID=UTC:20161209T210000
DTSTAMP:20260422T071735
CREATED:20161205T013048Z
LAST-MODIFIED:20161205T013048Z
UID:1693-1481310000-1481317200@www.vlbcsac.org
SUMMARY:Intercessory Prayer
DESCRIPTION:
URL:https://www.vlbcsac.org/event/intercessory-prayer-21/
LOCATION:Victory Life Bible Church\, 5697 Hillsdale Blvd\, Sacramento\, CA\, 95842\, United States
END:VEVENT
BEGIN:VEVENT
DTSTART;TZID=UTC:20161207T190000
DTEND;TZID=UTC:20161207T203000
DTSTAMP:20260422T071735
CREATED:20161205T012849Z
LAST-MODIFIED:20161205T012849Z
UID:1685-1481137200-1481142600@www.vlbcsac.org
SUMMARY:Bible Study
DESCRIPTION:
URL:https://www.vlbcsac.org/event/bible-study-23/
LOCATION:Victory Life Bible Church\, 5697 Hillsdale Blvd\, Sacramento\, CA\, 95842\, United States
END:VEVENT
BEGIN:VEVENT
DTSTART;TZID=UTC:20161030T104500
DTEND;TZID=UTC:20161030T130000
DTSTAMP:20260422T071735
CREATED:20161009T234433Z
LAST-MODIFIED:20161009T234433Z
UID:1648-1477824300-1477832400@www.vlbcsac.org
SUMMARY:Sunday Worship Service
DESCRIPTION:
URL:https://www.vlbcsac.org/event/sunday-worship-service-7/
LOCATION:Victory Life Bible Church\, 5697 Hillsdale Blvd\, Sacramento\, CA\, 95842\, United States
END:VEVENT
BEGIN:VEVENT
DTSTART;TZID=UTC:20161030T093000
DTEND;TZID=UTC:20161030T104500
DTSTAMP:20260422T071735
CREATED:20161009T234634Z
LAST-MODIFIED:20161009T234634Z
UID:1654-1477819800-1477824300@www.vlbcsac.org
SUMMARY:Sunday School
DESCRIPTION:
URL:https://www.vlbcsac.org/event/sunday-school-12/
LOCATION:Victory Life Bible Church\, 5697 Hillsdale Blvd\, Sacramento\, CA\, 95842\, United States
END:VEVENT
BEGIN:VEVENT
DTSTART;TZID=UTC:20161024T180000
DTEND;TZID=UTC:20161024T200000
DTSTAMP:20260422T071735
CREATED:20161009T234818Z
LAST-MODIFIED:20161009T234818Z
UID:1658-1477332000-1477339200@www.vlbcsac.org
SUMMARY:“Destiny Seekers” – Focus Group
DESCRIPTION:
URL:https://www.vlbcsac.org/event/destiny-seekers-focus-group-23/
LOCATION:Victory Life Bible Church\, 5697 Hillsdale Blvd\, Sacramento\, CA\, 95842\, United States
END:VEVENT
BEGIN:VEVENT
DTSTART;TZID=UTC:20161023T104500
DTEND;TZID=UTC:20161023T130000
DTSTAMP:20260422T071735
CREATED:20161009T234351Z
LAST-MODIFIED:20161009T234351Z
UID:1646-1477219500-1477227600@www.vlbcsac.org
SUMMARY:Sunday Worship Service
DESCRIPTION:
URL:https://www.vlbcsac.org/event/sunday-worship-service-6/
LOCATION:Victory Life Bible Church\, 5697 Hillsdale Blvd\, Sacramento\, CA\, 95842\, United States
END:VEVENT
BEGIN:VEVENT
DTSTART;TZID=UTC:20161023T093000
DTEND;TZID=UTC:20161023T104500
DTSTAMP:20260422T071735
CREATED:20161009T234559Z
LAST-MODIFIED:20161009T234559Z
UID:1652-1477215000-1477219500@www.vlbcsac.org
SUMMARY:Sunday School
DESCRIPTION:
URL:https://www.vlbcsac.org/event/sunday-school-11/
LOCATION:Victory Life Bible Church\, 5697 Hillsdale Blvd\, Sacramento\, CA\, 95842\, United States
END:VEVENT
BEGIN:VEVENT
DTSTART;TZID=UTC:20161016T093000
DTEND;TZID=UTC:20161016T104500
DTSTAMP:20260422T071735
CREATED:20161009T234523Z
LAST-MODIFIED:20161009T234523Z
UID:1650-1476610200-1476614700@www.vlbcsac.org
SUMMARY:Sunday School
DESCRIPTION:
URL:https://www.vlbcsac.org/event/sunday-school-10/
LOCATION:Victory Life Bible Church\, 5697 Hillsdale Blvd\, Sacramento\, CA\, 95842\, United States
END:VEVENT
BEGIN:VEVENT
DTSTART;TZID=UTC:20161014T190000
DTEND;TZID=UTC:20161017T210000
DTSTAMP:20260422T071735
CREATED:20160904T225837Z
LAST-MODIFIED:20161009T235056Z
UID:1633-1476471600-1476738000@www.vlbcsac.org
SUMMARY:Revive us Again
DESCRIPTION:Ministering : Apostle Lawrence Achudume
URL:https://www.vlbcsac.org/event/revive-us-again/
LOCATION:Victory Life Bible Church\, 5697 Hillsdale Blvd\, Sacramento\, CA\, 95842\, United States
END:VEVENT
BEGIN:VEVENT
DTSTART;TZID=UTC:20161012T190000
DTEND;TZID=UTC:20161012T203000
DTSTAMP:20260422T071735
CREATED:20161009T234853Z
LAST-MODIFIED:20161009T234853Z
UID:1660-1476298800-1476304200@www.vlbcsac.org
SUMMARY:Bible Study
DESCRIPTION:
URL:https://www.vlbcsac.org/event/bible-study-22/
LOCATION:Victory Life Bible Church\, 5697 Hillsdale Blvd\, Sacramento\, CA\, 95842\, United States
END:VEVENT
END:VCALENDAR