BEGIN:VCALENDAR
VERSION:2.0
PRODID:-//Victory Life Bible Church, Sacramento - ECPv6.13.2.1//NONSGML v1.0//EN
CALSCALE:GREGORIAN
METHOD:PUBLISH
X-WR-CALNAME:Victory Life Bible Church, Sacramento
X-ORIGINAL-URL:https://www.vlbcsac.org
X-WR-CALDESC:Events for Victory Life Bible Church, Sacramento
REFRESH-INTERVAL;VALUE=DURATION:PT1H
X-Robots-Tag:noindex
X-PUBLISHED-TTL:PT1H
BEGIN:VTIMEZONE
TZID:UTC
BEGIN:STANDARD
TZOFFSETFROM:+0000
TZOFFSETTO:+0000
TZNAME:UTC
DTSTART:20160101T000000
END:STANDARD
END:VTIMEZONE
BEGIN:VEVENT
DTSTART;TZID=UTC:20161209T190000
DTEND;TZID=UTC:20161209T210000
DTSTAMP:20260422T102825
CREATED:20161205T013048Z
LAST-MODIFIED:20161205T013048Z
UID:1693-1481310000-1481317200@www.vlbcsac.org
SUMMARY:Intercessory Prayer
DESCRIPTION:
URL:https://www.vlbcsac.org/event/intercessory-prayer-21/
LOCATION:Victory Life Bible Church\, 5697 Hillsdale Blvd\, Sacramento\, CA\, 95842\, United States
END:VEVENT
BEGIN:VEVENT
DTSTART;TZID=UTC:20161207T190000
DTEND;TZID=UTC:20161207T203000
DTSTAMP:20260422T102825
CREATED:20161205T012849Z
LAST-MODIFIED:20161205T012849Z
UID:1685-1481137200-1481142600@www.vlbcsac.org
SUMMARY:Bible Study
DESCRIPTION:
URL:https://www.vlbcsac.org/event/bible-study-23/
LOCATION:Victory Life Bible Church\, 5697 Hillsdale Blvd\, Sacramento\, CA\, 95842\, United States
END:VEVENT
BEGIN:VEVENT
DTSTART;TZID=UTC:20161030T104500
DTEND;TZID=UTC:20161030T130000
DTSTAMP:20260422T102825
CREATED:20161009T234433Z
LAST-MODIFIED:20161009T234433Z
UID:1648-1477824300-1477832400@www.vlbcsac.org
SUMMARY:Sunday Worship Service
DESCRIPTION:
URL:https://www.vlbcsac.org/event/sunday-worship-service-7/
LOCATION:Victory Life Bible Church\, 5697 Hillsdale Blvd\, Sacramento\, CA\, 95842\, United States
END:VEVENT
BEGIN:VEVENT
DTSTART;TZID=UTC:20161030T093000
DTEND;TZID=UTC:20161030T104500
DTSTAMP:20260422T102825
CREATED:20161009T234634Z
LAST-MODIFIED:20161009T234634Z
UID:1654-1477819800-1477824300@www.vlbcsac.org
SUMMARY:Sunday School
DESCRIPTION:
URL:https://www.vlbcsac.org/event/sunday-school-12/
LOCATION:Victory Life Bible Church\, 5697 Hillsdale Blvd\, Sacramento\, CA\, 95842\, United States
END:VEVENT
BEGIN:VEVENT
DTSTART;TZID=UTC:20161024T180000
DTEND;TZID=UTC:20161024T200000
DTSTAMP:20260422T102825
CREATED:20161009T234818Z
LAST-MODIFIED:20161009T234818Z
UID:1658-1477332000-1477339200@www.vlbcsac.org
SUMMARY:“Destiny Seekers” – Focus Group
DESCRIPTION:
URL:https://www.vlbcsac.org/event/destiny-seekers-focus-group-23/
LOCATION:Victory Life Bible Church\, 5697 Hillsdale Blvd\, Sacramento\, CA\, 95842\, United States
END:VEVENT
BEGIN:VEVENT
DTSTART;TZID=UTC:20161023T104500
DTEND;TZID=UTC:20161023T130000
DTSTAMP:20260422T102825
CREATED:20161009T234351Z
LAST-MODIFIED:20161009T234351Z
UID:1646-1477219500-1477227600@www.vlbcsac.org
SUMMARY:Sunday Worship Service
DESCRIPTION:
URL:https://www.vlbcsac.org/event/sunday-worship-service-6/
LOCATION:Victory Life Bible Church\, 5697 Hillsdale Blvd\, Sacramento\, CA\, 95842\, United States
END:VEVENT
BEGIN:VEVENT
DTSTART;TZID=UTC:20161023T093000
DTEND;TZID=UTC:20161023T104500
DTSTAMP:20260422T102825
CREATED:20161009T234559Z
LAST-MODIFIED:20161009T234559Z
UID:1652-1477215000-1477219500@www.vlbcsac.org
SUMMARY:Sunday School
DESCRIPTION:
URL:https://www.vlbcsac.org/event/sunday-school-11/
LOCATION:Victory Life Bible Church\, 5697 Hillsdale Blvd\, Sacramento\, CA\, 95842\, United States
END:VEVENT
BEGIN:VEVENT
DTSTART;TZID=UTC:20161016T093000
DTEND;TZID=UTC:20161016T104500
DTSTAMP:20260422T102825
CREATED:20161009T234523Z
LAST-MODIFIED:20161009T234523Z
UID:1650-1476610200-1476614700@www.vlbcsac.org
SUMMARY:Sunday School
DESCRIPTION:
URL:https://www.vlbcsac.org/event/sunday-school-10/
LOCATION:Victory Life Bible Church\, 5697 Hillsdale Blvd\, Sacramento\, CA\, 95842\, United States
END:VEVENT
BEGIN:VEVENT
DTSTART;TZID=UTC:20161014T190000
DTEND;TZID=UTC:20161017T210000
DTSTAMP:20260422T102825
CREATED:20160904T225837Z
LAST-MODIFIED:20161009T235056Z
UID:1633-1476471600-1476738000@www.vlbcsac.org
SUMMARY:Revive us Again
DESCRIPTION:Ministering : Apostle Lawrence Achudume
URL:https://www.vlbcsac.org/event/revive-us-again/
LOCATION:Victory Life Bible Church\, 5697 Hillsdale Blvd\, Sacramento\, CA\, 95842\, United States
END:VEVENT
BEGIN:VEVENT
DTSTART;TZID=UTC:20161012T190000
DTEND;TZID=UTC:20161012T203000
DTSTAMP:20260422T102825
CREATED:20161009T234853Z
LAST-MODIFIED:20161009T234853Z
UID:1660-1476298800-1476304200@www.vlbcsac.org
SUMMARY:Bible Study
DESCRIPTION:
URL:https://www.vlbcsac.org/event/bible-study-22/
LOCATION:Victory Life Bible Church\, 5697 Hillsdale Blvd\, Sacramento\, CA\, 95842\, United States
END:VEVENT
BEGIN:VEVENT
DTSTART;TZID=UTC:20161010T180000
DTEND;TZID=UTC:20161010T200000
DTSTAMP:20260422T102825
CREATED:20161009T234742Z
LAST-MODIFIED:20161009T234742Z
UID:1656-1476122400-1476129600@www.vlbcsac.org
SUMMARY:“Destiny Seekers” – Focus Group
DESCRIPTION:
URL:https://www.vlbcsac.org/event/destiny-seekers-focus-group-22/
LOCATION:Victory Life Bible Church\, 5697 Hillsdale Blvd\, Sacramento\, CA\, 95842\, United States
END:VEVENT
BEGIN:VEVENT
DTSTART;TZID=UTC:20160930T190000
DTEND;TZID=UTC:20160930T210000
DTSTAMP:20260422T102825
CREATED:20160904T225207Z
LAST-MODIFIED:20160904T225207Z
UID:1628-1475262000-1475269200@www.vlbcsac.org
SUMMARY:Intercessory Prayer
DESCRIPTION:
URL:https://www.vlbcsac.org/event/intercessory-prayer-20/
LOCATION:Victory Life Bible Church\, 5697 Hillsdale Blvd\, Sacramento\, CA\, 95842\, United States
END:VEVENT
BEGIN:VEVENT
DTSTART;TZID=UTC:20160928T190000
DTEND;TZID=UTC:20160928T203000
DTSTAMP:20260422T102825
CREATED:20160904T224910Z
LAST-MODIFIED:20160904T224910Z
UID:1624-1475089200-1475094600@www.vlbcsac.org
SUMMARY:Bible Study
DESCRIPTION:
URL:https://www.vlbcsac.org/event/bible-study-21/
LOCATION:Victory Life Bible Church\, 5697 Hillsdale Blvd\, Sacramento\, CA\, 95842\, United States
END:VEVENT
BEGIN:VEVENT
DTSTART;TZID=UTC:20160926T190000
DTEND;TZID=UTC:20160926T202500
DTSTAMP:20260422T102825
CREATED:20160904T224600Z
LAST-MODIFIED:20160904T224600Z
UID:1620-1474916400-1474921500@www.vlbcsac.org
SUMMARY:Leaders' Prayer Meeting
DESCRIPTION:
URL:https://www.vlbcsac.org/event/leaders-prayer-meeting-5/
LOCATION:Victory Life Bible Church\, 5697 Hillsdale Blvd\, Sacramento\, CA\, 95842\, United States
END:VEVENT
BEGIN:VEVENT
DTSTART;TZID=UTC:20160926T180000
DTEND;TZID=UTC:20160926T180000
DTSTAMP:20260422T102825
CREATED:20160904T223019Z
LAST-MODIFIED:20160904T223019Z
UID:1608-1474912800-1474912800@www.vlbcsac.org
SUMMARY:“Destiny Seekers” – Focus Group
DESCRIPTION:
URL:https://www.vlbcsac.org/event/destiny-seekers-focus-group-21/
LOCATION:CA
END:VEVENT
BEGIN:VEVENT
DTSTART;TZID=UTC:20160925T104500
DTEND;TZID=UTC:20160925T130000
DTSTAMP:20260422T102825
CREATED:20160904T223306Z
LAST-MODIFIED:20160904T224319Z
UID:1612-1474800300-1474808400@www.vlbcsac.org
SUMMARY:Sunday Worship Service
DESCRIPTION:
URL:https://www.vlbcsac.org/event/sunday-worship-service-4/
LOCATION:Victory Life Bible Church\, 5697 Hillsdale Blvd\, Sacramento\, CA\, 95842\, United States
END:VEVENT
BEGIN:VEVENT
DTSTART;TZID=UTC:20160925T093000
DTEND;TZID=UTC:20160925T104500
DTSTAMP:20260422T102825
CREATED:20160904T223847Z
LAST-MODIFIED:20160904T223847Z
UID:1616-1474795800-1474800300@www.vlbcsac.org
SUMMARY:Sunday School
DESCRIPTION:
URL:https://www.vlbcsac.org/event/sunday-school-8/
LOCATION:Victory Life Bible Church\, 5697 Hillsdale Blvd\, Sacramento\, CA\, 95842\, United States
END:VEVENT
BEGIN:VEVENT
DTSTART;TZID=UTC:20160925T090000
DTEND;TZID=UTC:20160925T093000
DTSTAMP:20260422T102825
CREATED:20160904T225623Z
LAST-MODIFIED:20160904T225623Z
UID:1632-1474794000-1474795800@www.vlbcsac.org
SUMMARY:Worker's Prayer Meeting
DESCRIPTION:
URL:https://www.vlbcsac.org/event/workers-prayer-meeting-4/
LOCATION:Victory Life Bible Church\, 5697 Hillsdale Blvd\, Sacramento\, CA\, 95842\, United States
END:VEVENT
BEGIN:VEVENT
DTSTART;TZID=UTC:20160923T190000
DTEND;TZID=UTC:20160923T210000
DTSTAMP:20260422T102825
CREATED:20160904T225107Z
LAST-MODIFIED:20160904T225107Z
UID:1627-1474657200-1474664400@www.vlbcsac.org
SUMMARY:Intercessory Prayer
DESCRIPTION:
URL:https://www.vlbcsac.org/event/intercessory-prayer-19/
LOCATION:Victory Life Bible Church\, 5697 Hillsdale Blvd\, Sacramento\, CA\, 95842\, United States
END:VEVENT
BEGIN:VEVENT
DTSTART;TZID=UTC:20160921T190000
DTEND;TZID=UTC:20160921T203000
DTSTAMP:20260422T102825
CREATED:20160904T224836Z
LAST-MODIFIED:20160904T224836Z
UID:1623-1474484400-1474489800@www.vlbcsac.org
SUMMARY:Bible Study
DESCRIPTION:
URL:https://www.vlbcsac.org/event/bible-study-20/
LOCATION:Victory Life Bible Church\, 5697 Hillsdale Blvd\, Sacramento\, CA\, 95842\, United States
END:VEVENT
BEGIN:VEVENT
DTSTART;TZID=UTC:20160919T180000
DTEND;TZID=UTC:20160919T190000
DTSTAMP:20260422T102825
CREATED:20160904T222947Z
LAST-MODIFIED:20160904T222947Z
UID:1607-1474308000-1474311600@www.vlbcsac.org
SUMMARY:“Destiny Seekers” – Focus Group
DESCRIPTION:
URL:https://www.vlbcsac.org/event/destiny-seekers-focus-group-20/
LOCATION:Victory Life Bible Church\, 5697 Hillsdale Blvd\, Sacramento\, CA\, 95842\, United States
END:VEVENT
BEGIN:VEVENT
DTSTART;TZID=UTC:20160918T104500
DTEND;TZID=UTC:20160918T130000
DTSTAMP:20260422T102825
CREATED:20160904T223234Z
LAST-MODIFIED:20160904T224220Z
UID:1611-1474195500-1474203600@www.vlbcsac.org
SUMMARY:Sunday Worship Service
DESCRIPTION:
URL:https://www.vlbcsac.org/event/sunday-worship-service-3/
LOCATION:Victory Life Bible Church\, 5697 Hillsdale Blvd\, Sacramento\, CA\, 95842\, United States
END:VEVENT
BEGIN:VEVENT
DTSTART;TZID=UTC:20160918T093000
DTEND;TZID=UTC:20160918T104500
DTSTAMP:20260422T102825
CREATED:20160904T223759Z
LAST-MODIFIED:20160904T223759Z
UID:1615-1474191000-1474195500@www.vlbcsac.org
SUMMARY:Sunday School
DESCRIPTION:
URL:https://www.vlbcsac.org/event/sunday-school-7/
LOCATION:Victory Life Bible Church\, 5697 Hillsdale Blvd\, Sacramento\, CA\, 95842\, United States
END:VEVENT
BEGIN:VEVENT
DTSTART;TZID=UTC:20160918T090000
DTEND;TZID=UTC:20160918T093000
DTSTAMP:20260422T102825
CREATED:20160904T225549Z
LAST-MODIFIED:20160904T225549Z
UID:1631-1474189200-1474191000@www.vlbcsac.org
SUMMARY:Worker's Prayer Meeting
DESCRIPTION:
URL:https://www.vlbcsac.org/event/workers-prayer-meeting-3/
LOCATION:Victory Life Bible Church\, 5697 Hillsdale Blvd\, Sacramento\, CA\, 95842\, United States
END:VEVENT
BEGIN:VEVENT
DTSTART;TZID=UTC:20160916T190000
DTEND;TZID=UTC:20160916T210000
DTSTAMP:20260422T102825
CREATED:20160904T225027Z
LAST-MODIFIED:20160904T225027Z
UID:1626-1474052400-1474059600@www.vlbcsac.org
SUMMARY:Intercessory Prayer
DESCRIPTION:
URL:https://www.vlbcsac.org/event/intercessory-prayer-18/
LOCATION:Victory Life Bible Church\, 5697 Hillsdale Blvd\, Sacramento\, CA\, 95842\, United States
END:VEVENT
BEGIN:VEVENT
DTSTART;TZID=UTC:20160914T190000
DTEND;TZID=UTC:20160914T203000
DTSTAMP:20260422T102825
CREATED:20160904T224758Z
LAST-MODIFIED:20160904T224758Z
UID:1622-1473879600-1473885000@www.vlbcsac.org
SUMMARY:Bible Study
DESCRIPTION:
URL:https://www.vlbcsac.org/event/bible-study-19/
LOCATION:Victory Life Bible Church\, 5697 Hillsdale Blvd\, Sacramento\, CA\, 95842\, United States
END:VEVENT
BEGIN:VEVENT
DTSTART;TZID=UTC:20160912T180000
DTEND;TZID=UTC:20160912T190000
DTSTAMP:20260422T102825
CREATED:20160904T222915Z
LAST-MODIFIED:20160904T222915Z
UID:1606-1473703200-1473706800@www.vlbcsac.org
SUMMARY:“Destiny Seekers” – Focus Group
DESCRIPTION:
URL:https://www.vlbcsac.org/event/destiny-seekers-focus-group-19/
LOCATION:Victory Life Bible Church\, 5697 Hillsdale Blvd\, Sacramento\, CA\, 95842\, United States
END:VEVENT
BEGIN:VEVENT
DTSTART;TZID=UTC:20160911T104500
DTEND;TZID=UTC:20160911T130000
DTSTAMP:20260422T102825
CREATED:20160904T223204Z
LAST-MODIFIED:20160904T224354Z
UID:1610-1473590700-1473598800@www.vlbcsac.org
SUMMARY:Sunday Worship Service
DESCRIPTION:
URL:https://www.vlbcsac.org/event/sunday-worship-service-2/
LOCATION:Victory Life Bible Church\, 5697 Hillsdale Blvd\, Sacramento\, CA\, 95842\, United States
END:VEVENT
BEGIN:VEVENT
DTSTART;TZID=UTC:20160911T093000
DTEND;TZID=UTC:20160911T104500
DTSTAMP:20260422T102825
CREATED:20160904T223711Z
LAST-MODIFIED:20160904T223711Z
UID:1614-1473586200-1473590700@www.vlbcsac.org
SUMMARY:Sunday School
DESCRIPTION:
URL:https://www.vlbcsac.org/event/sunday-school-6/
LOCATION:Victory Life Bible Church\, 5697 Hillsdale Blvd\, Sacramento\, CA\, 95842\, United States
END:VEVENT
BEGIN:VEVENT
DTSTART;TZID=UTC:20160911T090000
DTEND;TZID=UTC:20160911T093000
DTSTAMP:20260422T102825
CREATED:20160904T225521Z
LAST-MODIFIED:20160904T225521Z
UID:1630-1473584400-1473586200@www.vlbcsac.org
SUMMARY:Worker's Prayer Meeting
DESCRIPTION:
URL:https://www.vlbcsac.org/event/workers-prayer-meeting-2/
LOCATION:Victory Life Bible Church\, 5697 Hillsdale Blvd\, Sacramento\, CA\, 95842\, United States
END:VEVENT
END:VCALENDAR