BEGIN:VCALENDAR
VERSION:2.0
PRODID:-//Victory Life Bible Church, Sacramento - ECPv6.13.2.1//NONSGML v1.0//EN
CALSCALE:GREGORIAN
METHOD:PUBLISH
X-WR-CALNAME:Victory Life Bible Church, Sacramento
X-ORIGINAL-URL:https://www.vlbcsac.org
X-WR-CALDESC:Events for Victory Life Bible Church, Sacramento
REFRESH-INTERVAL;VALUE=DURATION:PT1H
X-Robots-Tag:noindex
X-PUBLISHED-TTL:PT1H
BEGIN:VTIMEZONE
TZID:UTC
BEGIN:STANDARD
TZOFFSETFROM:+0000
TZOFFSETTO:+0000
TZNAME:UTC
DTSTART:20160101T000000
END:STANDARD
END:VTIMEZONE
BEGIN:VEVENT
DTSTART;TZID=UTC:20160909T190000
DTEND;TZID=UTC:20160909T210000
DTSTAMP:20260422T150200
CREATED:20160904T224956Z
LAST-MODIFIED:20160904T224956Z
UID:1625-1473447600-1473454800@www.vlbcsac.org
SUMMARY:Intercessory Prayer
DESCRIPTION:
URL:https://www.vlbcsac.org/event/intercessory-prayer-17/
LOCATION:Victory Life Bible Church\, 5697 Hillsdale Blvd\, Sacramento\, CA\, 95842\, United States
END:VEVENT
BEGIN:VEVENT
DTSTART;TZID=UTC:20160907T190000
DTEND;TZID=UTC:20160907T203000
DTSTAMP:20260422T150200
CREATED:20160904T224725Z
LAST-MODIFIED:20160904T224725Z
UID:1621-1473274800-1473280200@www.vlbcsac.org
SUMMARY:Bible Study
DESCRIPTION:
URL:https://www.vlbcsac.org/event/bible-study-18/
LOCATION:Victory Life Bible Church\, 5697 Hillsdale Blvd\, Sacramento\, CA\, 95842\, United States
END:VEVENT
BEGIN:VEVENT
DTSTART;TZID=UTC:20160905T180000
DTEND;TZID=UTC:20160905T190000
DTSTAMP:20260422T150200
CREATED:20160904T222839Z
LAST-MODIFIED:20160904T222839Z
UID:1605-1473098400-1473102000@www.vlbcsac.org
SUMMARY:“Destiny Seekers” – Focus Group
DESCRIPTION:
URL:https://www.vlbcsac.org/event/destiny-seekers-focus-group-18/
LOCATION:Victory Life Bible Church\, 5697 Hillsdale Blvd\, Sacramento\, CA\, 95842\, United States
END:VEVENT
BEGIN:VEVENT
DTSTART;TZID=UTC:20160905T070000
DTEND;TZID=UTC:20160905T203000
DTSTAMP:20260422T150200
CREATED:20160904T224525Z
LAST-MODIFIED:20160904T224525Z
UID:1619-1473058800-1473107400@www.vlbcsac.org
SUMMARY:Leaders' Prayer Meeting
DESCRIPTION:
URL:https://www.vlbcsac.org/event/leaders-prayer-meeting-4/
LOCATION:Victory Life Bible Church\, 5697 Hillsdale Blvd\, Sacramento\, CA\, 95842\, United States
END:VEVENT
BEGIN:VEVENT
DTSTART;TZID=UTC:20160904T104500
DTEND;TZID=UTC:20160904T130000
DTSTAMP:20260422T150200
CREATED:20160904T223135Z
LAST-MODIFIED:20160904T224252Z
UID:1609-1472985900-1472994000@www.vlbcsac.org
SUMMARY:Sunday Worship Service
DESCRIPTION:
URL:https://www.vlbcsac.org/event/sunday-worship-service/
LOCATION:Victory Life Bible Church\, 5697 Hillsdale Blvd\, Sacramento\, CA\, 95842\, United States
END:VEVENT
BEGIN:VEVENT
DTSTART;TZID=UTC:20160904T093000
DTEND;TZID=UTC:20160904T104500
DTSTAMP:20260422T150200
CREATED:20160904T224055Z
LAST-MODIFIED:20160904T224055Z
UID:1617-1472981400-1472985900@www.vlbcsac.org
SUMMARY:Sunday School
DESCRIPTION:
URL:https://www.vlbcsac.org/event/sunday-school-9/
LOCATION:Victory Life Bible Church\, 5697 Hillsdale Blvd\, Sacramento\, CA\, 95842\, United States
END:VEVENT
BEGIN:VEVENT
DTSTART;TZID=UTC:20160904T093000
DTEND;TZID=UTC:20160904T104500
DTSTAMP:20260422T150200
CREATED:20160904T223637Z
LAST-MODIFIED:20160904T223637Z
UID:1613-1472981400-1472985900@www.vlbcsac.org
SUMMARY:Sunday School
DESCRIPTION:
URL:https://www.vlbcsac.org/event/sunday-school-5/
LOCATION:Victory Life Bible Church\, 5697 Hillsdale Blvd\, Sacramento\, CA\, 95842\, United States
END:VEVENT
BEGIN:VEVENT
DTSTART;TZID=UTC:20160904T090000
DTEND;TZID=UTC:20160904T093000
DTSTAMP:20260422T150200
CREATED:20160904T225446Z
LAST-MODIFIED:20160904T225446Z
UID:1629-1472979600-1472981400@www.vlbcsac.org
SUMMARY:Worker's Prayer Meeting
DESCRIPTION:
URL:https://www.vlbcsac.org/event/workers-prayer-meeting/
LOCATION:Victory Life Bible Church\, 5697 Hillsdale Blvd\, Sacramento\, CA\, 95842\, United States
END:VEVENT
BEGIN:VEVENT
DTSTART;TZID=UTC:20160810T190000
DTEND;TZID=UTC:20160814T190000
DTSTAMP:20260422T150200
CREATED:20160206T145051Z
LAST-MODIFIED:20160206T145051Z
UID:1481-1470855600-1471201200@www.vlbcsac.org
SUMMARY:Church Convention
DESCRIPTION:
URL:https://www.vlbcsac.org/event/church-convention/
LOCATION:Victory Life Bible Church\, 5697 Hillsdale Blvd\, Sacramento\, CA\, 95842\, United States
END:VEVENT
BEGIN:VEVENT
DTSTART;TZID=UTC:20160729T190000
DTEND;TZID=UTC:20160729T210000
DTSTAMP:20260422T150200
CREATED:20160626T224519Z
LAST-MODIFIED:20160626T224519Z
UID:1583-1469818800-1469826000@www.vlbcsac.org
SUMMARY:Intercessory Prayer
DESCRIPTION:
URL:https://www.vlbcsac.org/event/intercessory-prayer-16/
LOCATION:Victory Life Bible Church\, 5697 Hillsdale Blvd\, Sacramento\, CA\, 95842\, United States
END:VEVENT
BEGIN:VEVENT
DTSTART;TZID=UTC:20160727T190000
DTEND;TZID=UTC:20160727T203000
DTSTAMP:20260422T150200
CREATED:20160626T223726Z
LAST-MODIFIED:20160626T223726Z
UID:1575-1469646000-1469651400@www.vlbcsac.org
SUMMARY:Bible Study
DESCRIPTION:
URL:https://www.vlbcsac.org/event/bible-study-17/
LOCATION:Victory Life Bible Church\, 5697 Hillsdale Blvd\, Sacramento\, CA\, 95842\, United States
END:VEVENT
BEGIN:VEVENT
DTSTART;TZID=UTC:20160725T190000
DTEND;TZID=UTC:20160725T203000
DTSTAMP:20260422T150200
CREATED:20160626T224006Z
LAST-MODIFIED:20160626T224006Z
UID:1578-1469473200-1469478600@www.vlbcsac.org
SUMMARY:Leaders' Prayer Meeting
DESCRIPTION:
URL:https://www.vlbcsac.org/event/leaders-prayer-meeting-3/
LOCATION:Victory Life Bible Church\, 5697 Hillsdale Blvd\, Sacramento\, CA\, 95842\, United States
END:VEVENT
BEGIN:VEVENT
DTSTART;TZID=UTC:20160725T180000
DTEND;TZID=UTC:20160725T190000
DTSTAMP:20260422T150200
CREATED:20160626T223413Z
LAST-MODIFIED:20160626T223413Z
UID:1570-1469469600-1469473200@www.vlbcsac.org
SUMMARY:“Destiny Seekers” – Focus Group
DESCRIPTION:
URL:https://www.vlbcsac.org/event/destiny-seekers-focus-group-17/
LOCATION:Victory Life Bible Church\, 5697 Hillsdale Blvd\, Sacramento\, CA\, 95842\, United States
END:VEVENT
BEGIN:VEVENT
DTSTART;TZID=UTC:20160722T190000
DTEND;TZID=UTC:20160722T210000
DTSTAMP:20260422T150200
CREATED:20160626T224450Z
LAST-MODIFIED:20160626T224450Z
UID:1582-1469214000-1469221200@www.vlbcsac.org
SUMMARY:Intercessory Prayer
DESCRIPTION:
URL:https://www.vlbcsac.org/event/intercessory-prayer-15/
LOCATION:Victory Life Bible Church\, 5697 Hillsdale Blvd\, Sacramento\, CA\, 95842\, United States
END:VEVENT
BEGIN:VEVENT
DTSTART;TZID=UTC:20160720T190000
DTEND;TZID=UTC:20160720T203000
DTSTAMP:20260422T150200
CREATED:20160626T223655Z
LAST-MODIFIED:20160626T223655Z
UID:1574-1469041200-1469046600@www.vlbcsac.org
SUMMARY:Bible Study
DESCRIPTION:
URL:https://www.vlbcsac.org/event/bible-study-16/
LOCATION:Victory Life Bible Church\, 5697 Hillsdale Blvd\, Sacramento\, CA\, 95842\, United States
END:VEVENT
BEGIN:VEVENT
DTSTART;TZID=UTC:20160718T180000
DTEND;TZID=UTC:20160718T190000
DTSTAMP:20260422T150200
CREATED:20160626T223321Z
LAST-MODIFIED:20160626T223332Z
UID:1569-1468864800-1468868400@www.vlbcsac.org
SUMMARY:“Destiny Seekers” – Focus Group
DESCRIPTION:
URL:https://www.vlbcsac.org/event/destiny-seekers-focus-group-16/
LOCATION:Victory Life Bible Church\, 5697 Hillsdale Blvd\, Sacramento\, CA\, 95842\, United States
END:VEVENT
BEGIN:VEVENT
DTSTART;TZID=UTC:20160715T190000
DTEND;TZID=UTC:20160715T210000
DTSTAMP:20260422T150200
CREATED:20160626T224235Z
LAST-MODIFIED:20160626T224235Z
UID:1581-1468609200-1468616400@www.vlbcsac.org
SUMMARY:Intercessory Prayer
DESCRIPTION:
URL:https://www.vlbcsac.org/event/intercessory-prayer-14/
LOCATION:Victory Life Bible Church\, 5697 Hillsdale Blvd\, Sacramento\, CA\, 95842\, United States
END:VEVENT
BEGIN:VEVENT
DTSTART;TZID=UTC:20160713T190000
DTEND;TZID=UTC:20160713T203000
DTSTAMP:20260422T150200
CREATED:20160626T223621Z
LAST-MODIFIED:20160626T223621Z
UID:1573-1468436400-1468441800@www.vlbcsac.org
SUMMARY:Bible Study
DESCRIPTION:
URL:https://www.vlbcsac.org/event/bible-study-15/
LOCATION:Victory Life Bible Church\, 5697 Hillsdale Blvd\, Sacramento\, CA\, 95842\, United States
END:VEVENT
BEGIN:VEVENT
DTSTART;TZID=UTC:20160711T180000
DTEND;TZID=UTC:20160711T190000
DTSTAMP:20260422T150200
CREATED:20160626T223256Z
LAST-MODIFIED:20160626T223256Z
UID:1568-1468260000-1468263600@www.vlbcsac.org
SUMMARY:“Destiny Seekers” – Focus Group
DESCRIPTION:
URL:https://www.vlbcsac.org/event/destiny-seekers-focus-group-15/
LOCATION:Victory Life Bible Church\, 5697 Hillsdale Blvd\, Sacramento\, CA\, 95842\, United States
END:VEVENT
BEGIN:VEVENT
DTSTART;TZID=UTC:20160708T190000
DTEND;TZID=UTC:20160708T210000
DTSTAMP:20260422T150200
CREATED:20160626T224148Z
LAST-MODIFIED:20160626T224148Z
UID:1580-1468004400-1468011600@www.vlbcsac.org
SUMMARY:Intercessory Prayer
DESCRIPTION:
URL:https://www.vlbcsac.org/event/intercessory-prayer-13/
LOCATION:Victory Life Bible Church\, 5697 Hillsdale Blvd\, Sacramento\, CA\, 95842\, United States
END:VEVENT
BEGIN:VEVENT
DTSTART;TZID=UTC:20160706T190000
DTEND;TZID=UTC:20160706T203000
DTSTAMP:20260422T150200
CREATED:20160626T223549Z
LAST-MODIFIED:20160626T223549Z
UID:1572-1467831600-1467837000@www.vlbcsac.org
SUMMARY:Bible Study
DESCRIPTION:
URL:https://www.vlbcsac.org/event/bible-study-14/
LOCATION:Victory Life Bible Church\, 5697 Hillsdale Blvd\, Sacramento\, CA\, 95842\, United States
END:VEVENT
BEGIN:VEVENT
DTSTART;TZID=UTC:20160704T190000
DTEND;TZID=UTC:20160704T203000
DTSTAMP:20260422T150200
CREATED:20160626T223936Z
LAST-MODIFIED:20160626T223936Z
UID:1577-1467658800-1467664200@www.vlbcsac.org
SUMMARY:Leaders' Prayer Meeting
DESCRIPTION:
URL:https://www.vlbcsac.org/event/leaders-prayer-meeting-2/
LOCATION:Victory Life Bible Church\, 5697 Hillsdale Blvd\, Sacramento\, CA\, 95842\, United States
END:VEVENT
BEGIN:VEVENT
DTSTART;TZID=UTC:20160704T180000
DTEND;TZID=UTC:20160704T190000
DTSTAMP:20260422T150200
CREATED:20160626T223228Z
LAST-MODIFIED:20160626T223228Z
UID:1567-1467655200-1467658800@www.vlbcsac.org
SUMMARY:“Destiny Seekers” – Focus Group
DESCRIPTION:
URL:https://www.vlbcsac.org/event/destiny-seekers-focus-group-14/
LOCATION:Victory Life Bible Church\, 5697 Hillsdale Blvd\, Sacramento\, CA\, 95842\, United States
END:VEVENT
BEGIN:VEVENT
DTSTART;TZID=UTC:20160701T190000
DTEND;TZID=UTC:20160701T210000
DTSTAMP:20260422T150200
CREATED:20160626T224115Z
LAST-MODIFIED:20160626T224115Z
UID:1579-1467399600-1467406800@www.vlbcsac.org
SUMMARY:Intercessory Prayer
DESCRIPTION:
URL:https://www.vlbcsac.org/event/intercessory-prayer-12/
LOCATION:Victory Life Bible Church\, 5697 Hillsdale Blvd\, Sacramento\, CA\, 95842\, United States
END:VEVENT
BEGIN:VEVENT
DTSTART;TZID=UTC:20160629T190000
DTEND;TZID=UTC:20160629T203000
DTSTAMP:20260422T150200
CREATED:20160626T223515Z
LAST-MODIFIED:20160626T223515Z
UID:1571-1467226800-1467232200@www.vlbcsac.org
SUMMARY:Bible Study
DESCRIPTION:
URL:https://www.vlbcsac.org/event/bible-study-13/
LOCATION:Victory Life Bible Church\, 5697 Hillsdale Blvd\, Sacramento\, CA\, 95842\, United States
END:VEVENT
BEGIN:VEVENT
DTSTART;TZID=UTC:20160627T190000
DTEND;TZID=UTC:20160627T203000
DTSTAMP:20260422T150200
CREATED:20160626T223901Z
LAST-MODIFIED:20160626T223901Z
UID:1576-1467054000-1467059400@www.vlbcsac.org
SUMMARY:Leaders' Prayer Meeting
DESCRIPTION:
URL:https://www.vlbcsac.org/event/leaders-prayer-meeting/
LOCATION:Victory Life Bible Church\, 5697 Hillsdale Blvd\, Sacramento\, CA\, 95842\, United States
END:VEVENT
BEGIN:VEVENT
DTSTART;TZID=UTC:20160627T180000
DTEND;TZID=UTC:20160627T190000
DTSTAMP:20260422T150200
CREATED:20160626T223149Z
LAST-MODIFIED:20160626T223149Z
UID:1566-1467050400-1467054000@www.vlbcsac.org
SUMMARY:“Destiny Seekers” – Focus Group
DESCRIPTION:
URL:https://www.vlbcsac.org/event/destiny-seekers-focus-group-13/
LOCATION:Victory Life Bible Church\, 5697 Hillsdale Blvd\, Sacramento\, CA\, 95842\, United States
END:VEVENT
BEGIN:VEVENT
DTSTART;TZID=UTC:20160520T190000
DTEND;TZID=UTC:20160522T190000
DTSTAMP:20260422T150200
CREATED:20160206T144956Z
LAST-MODIFIED:20160206T144956Z
UID:1480-1463770800-1463943600@www.vlbcsac.org
SUMMARY:Royal Ladies Conference
DESCRIPTION:
URL:https://www.vlbcsac.org/event/royal-ladies-conference/
LOCATION:Victory Life Bible Church\, 5697 Hillsdale Blvd\, Sacramento\, CA\, 95842\, United States
END:VEVENT
BEGIN:VEVENT
DTSTART;TZID=UTC:20160429T190000
DTEND;TZID=UTC:20160429T203000
DTSTAMP:20260422T150200
CREATED:20160405T113942Z
LAST-MODIFIED:20160405T113942Z
UID:1552-1461956400-1461961800@www.vlbcsac.org
SUMMARY:Intercessory Prayer
DESCRIPTION:
URL:https://www.vlbcsac.org/event/intercessory-prayer-11/
LOCATION:Victory Life Bible Church\, 5697 Hillsdale Blvd\, Sacramento\, CA\, 95842\, United States
END:VEVENT
BEGIN:VEVENT
DTSTART;TZID=UTC:20160427T190000
DTEND;TZID=UTC:20160427T203000
DTSTAMP:20260422T150200
CREATED:20160405T114513Z
LAST-MODIFIED:20160405T114513Z
UID:1558-1461783600-1461789000@www.vlbcsac.org
SUMMARY:Bible Study
DESCRIPTION:
URL:https://www.vlbcsac.org/event/bible-study-12/
LOCATION:Victory Life Bible Church\, 5697 Hillsdale Blvd\, Sacramento\, CA\, 95842\, United States
END:VEVENT
END:VCALENDAR