BEGIN:VCALENDAR
VERSION:2.0
PRODID:-//Victory Life Bible Church, Sacramento - ECPv6.13.2.1//NONSGML v1.0//EN
CALSCALE:GREGORIAN
METHOD:PUBLISH
X-WR-CALNAME:Victory Life Bible Church, Sacramento
X-ORIGINAL-URL:https://www.vlbcsac.org
X-WR-CALDESC:Events for Victory Life Bible Church, Sacramento
REFRESH-INTERVAL;VALUE=DURATION:PT1H
X-Robots-Tag:noindex
X-PUBLISHED-TTL:PT1H
BEGIN:VTIMEZONE
TZID:UTC
BEGIN:STANDARD
TZOFFSETFROM:+0000
TZOFFSETTO:+0000
TZNAME:UTC
DTSTART:20160101T000000
END:STANDARD
END:VTIMEZONE
BEGIN:VTIMEZONE
TZID:America/Los_Angeles
BEGIN:DAYLIGHT
TZOFFSETFROM:-0800
TZOFFSETTO:-0700
TZNAME:PDT
DTSTART:20160313T100000
END:DAYLIGHT
BEGIN:STANDARD
TZOFFSETFROM:-0700
TZOFFSETTO:-0800
TZNAME:PST
DTSTART:20161106T090000
END:STANDARD
END:VTIMEZONE
BEGIN:VEVENT
DTSTART;TZID=UTC:20160404T180000
DTEND;TZID=UTC:20160404T190000
DTSTAMP:20260422T222003
CREATED:20160324T094707Z
LAST-MODIFIED:20160324T094707Z
UID:1542-1459792800-1459796400@www.vlbcsac.org
SUMMARY:“Destiny Seekers” – Focus Group
DESCRIPTION:
URL:https://www.vlbcsac.org/event/destiny-seekers-focus-group-9/
LOCATION:Victory Life Bible Church\, 5697 Hillsdale Blvd\, Sacramento\, CA\, 95842\, United States
END:VEVENT
BEGIN:VEVENT
DTSTART;TZID=UTC:20160403T104500
DTEND;TZID=UTC:20160403T130000
DTSTAMP:20260422T222003
CREATED:20160324T094133Z
LAST-MODIFIED:20160324T094133Z
UID:1541-1459680300-1459688400@www.vlbcsac.org
SUMMARY:Sunday Service
DESCRIPTION:
URL:https://www.vlbcsac.org/event/sunday-service/
LOCATION:Victory Life Bible Church\, 5697 Hillsdale Blvd\, Sacramento\, CA\, 95842\, United States
END:VEVENT
BEGIN:VEVENT
DTSTART;TZID=UTC:20160401T190000
DTEND;TZID=UTC:20160401T202500
DTSTAMP:20260422T222003
CREATED:20160324T094010Z
LAST-MODIFIED:20160324T094010Z
UID:1540-1459537200-1459542300@www.vlbcsac.org
SUMMARY:Intercessory Prayer
DESCRIPTION:
URL:https://www.vlbcsac.org/event/intercessory-prayer-7/
LOCATION:Victory Life Bible Church\, 5697 Hillsdale Blvd\, Sacramento\, CA\, 95842\, United States
END:VEVENT
BEGIN:VEVENT
DTSTART;TZID=America/Los_Angeles:20160330T190000
DTEND;TZID=America/Los_Angeles:20160330T203000
DTSTAMP:20260422T222003
CREATED:20160302T124059Z
LAST-MODIFIED:20160302T124059Z
UID:1532-1459364400-1459369800@www.vlbcsac.org
SUMMARY:Bible Study
DESCRIPTION:
URL:https://www.vlbcsac.org/event/bible-study-9/
LOCATION:Victory Life Bible Church\, 5697 Hillsdale Blvd\, Sacramento\, CA\, 95842\, United States
END:VEVENT
BEGIN:VEVENT
DTSTART;TZID=UTC:20160328T180000
DTEND;TZID=UTC:20160328T190000
DTSTAMP:20260422T222003
CREATED:20160302T123525Z
LAST-MODIFIED:20160302T123525Z
UID:1526-1459188000-1459191600@www.vlbcsac.org
SUMMARY:"Destiny Seekers" - Focus Group
DESCRIPTION:
URL:https://www.vlbcsac.org/event/destiny-seekers-focus-group-8/
LOCATION:Victory Life Bible Church\, 5697 Hillsdale Blvd\, Sacramento\, CA\, 95842\, United States
END:VEVENT
BEGIN:VEVENT
DTSTART;TZID=UTC:20160327T104500
DTEND;TZID=UTC:20160327T130000
DTSTAMP:20260422T222003
CREATED:20160324T093753Z
LAST-MODIFIED:20160324T093753Z
UID:1539-1459075500-1459083600@www.vlbcsac.org
SUMMARY:Easter Sunday Service
DESCRIPTION:
URL:https://www.vlbcsac.org/event/easter-sunday-service/
LOCATION:Victory Life Bible Church\, 5697 Hillsdale Blvd\, Sacramento\, CA\, 95842\, United States
END:VEVENT
BEGIN:VEVENT
DTSTART;TZID=America/Los_Angeles:20160325T190000
DTEND;TZID=America/Los_Angeles:20160325T202500
DTSTAMP:20260422T222003
CREATED:20160302T124317Z
LAST-MODIFIED:20160302T124317Z
UID:1535-1458932400-1458937500@www.vlbcsac.org
SUMMARY:Intercessory Prayer
DESCRIPTION:
URL:https://www.vlbcsac.org/event/intercessory-prayer-6/
LOCATION:Victory Life Bible Church\, 5697 Hillsdale Blvd\, Sacramento\, CA\, 95842\, United States
END:VEVENT
BEGIN:VEVENT
DTSTART;TZID=UTC:20160324T190000
DTEND;TZID=UTC:20160324T202500
DTSTAMP:20260422T222003
CREATED:20160324T094912Z
LAST-MODIFIED:20160324T094912Z
UID:1544-1458846000-1458851100@www.vlbcsac.org
SUMMARY:Intercessory Prayer
DESCRIPTION:
URL:https://www.vlbcsac.org/event/intercessory-prayer-8/
LOCATION:Victory Life Bible Church\, 5697 Hillsdale Blvd\, Sacramento\, CA\, 95842\, United States
END:VEVENT
BEGIN:VEVENT
DTSTART;TZID=America/Los_Angeles:20160323T190000
DTEND;TZID=America/Los_Angeles:20160323T203000
DTSTAMP:20260422T222003
CREATED:20160302T124024Z
LAST-MODIFIED:20160302T124024Z
UID:1531-1458759600-1458765000@www.vlbcsac.org
SUMMARY:Bible Study
DESCRIPTION:
URL:https://www.vlbcsac.org/event/bible-study-8/
LOCATION:Victory Life Bible Church\, 5697 Hillsdale Blvd\, Sacramento\, CA\, 95842\, United States
END:VEVENT
BEGIN:VEVENT
DTSTART;TZID=UTC:20160321T180000
DTEND;TZID=UTC:20160321T190000
DTSTAMP:20260422T222003
CREATED:20160302T123445Z
LAST-MODIFIED:20160302T123445Z
UID:1525-1458583200-1458586800@www.vlbcsac.org
SUMMARY:"Destiny Seekers" - Focus Group
DESCRIPTION:
URL:https://www.vlbcsac.org/event/destiny-seekers-focus-group-7/
LOCATION:Victory Life Bible Church\, 5697 Hillsdale Blvd\, Sacramento\, CA\, 95842\, United States
END:VEVENT
BEGIN:VEVENT
DTSTART;TZID=UTC:20160318T190000
DTEND;TZID=UTC:20160321T190000
DTSTAMP:20260422T222003
CREATED:20160206T144816Z
LAST-MODIFIED:20160216T034026Z
UID:1478-1458327600-1458586800@www.vlbcsac.org
SUMMARY:Leadership Training & Conference
DESCRIPTION:Ministering: Apostle Lawrence Achudume
URL:https://www.vlbcsac.org/event/leadership-training-conference/
LOCATION:Victory Life Bible Church\, 5697 Hillsdale Blvd\, Sacramento\, CA\, 95842\, United States
END:VEVENT
BEGIN:VEVENT
DTSTART;TZID=America/Los_Angeles:20160316T190000
DTEND;TZID=America/Los_Angeles:20160316T203000
DTSTAMP:20260422T222003
CREATED:20160302T123847Z
LAST-MODIFIED:20160302T123847Z
UID:1529-1458154800-1458160200@www.vlbcsac.org
SUMMARY:Bible Study
DESCRIPTION:
URL:https://www.vlbcsac.org/event/bible-study-6/
LOCATION:Victory Life Bible Church\, 5697 Hillsdale Blvd\, Sacramento\, CA\, 95842\, United States
END:VEVENT
BEGIN:VEVENT
DTSTART;TZID=UTC:20160314T180000
DTEND;TZID=UTC:20160314T190000
DTSTAMP:20260422T222003
CREATED:20160302T123417Z
LAST-MODIFIED:20160302T123417Z
UID:1524-1457978400-1457982000@www.vlbcsac.org
SUMMARY:"Destiny Seekers" - Focus Group
DESCRIPTION:
URL:https://www.vlbcsac.org/event/destiny-seekers-focus-group-6/
LOCATION:Victory Life Bible Church\, 5697 Hillsdale Blvd\, Sacramento\, CA\, 95842\, United States
END:VEVENT
BEGIN:VEVENT
DTSTART;TZID=America/Los_Angeles:20160311T190000
DTEND;TZID=America/Los_Angeles:20160311T203000
DTSTAMP:20260422T222003
CREATED:20160302T124235Z
LAST-MODIFIED:20160302T124235Z
UID:1534-1457722800-1457728200@www.vlbcsac.org
SUMMARY:Intercessory Prayer
DESCRIPTION:
URL:https://www.vlbcsac.org/event/intercessory-prayer-5/
LOCATION:Victory Life Bible Church\, 5697 Hillsdale Blvd\, Sacramento\, CA\, 95842\, United States
END:VEVENT
BEGIN:VEVENT
DTSTART;TZID=America/Los_Angeles:20160309T190000
DTEND;TZID=America/Los_Angeles:20160309T203000
DTSTAMP:20260422T222003
CREATED:20160302T123809Z
LAST-MODIFIED:20160302T123809Z
UID:1528-1457550000-1457555400@www.vlbcsac.org
SUMMARY:Bible Study
DESCRIPTION:
URL:https://www.vlbcsac.org/event/bible-study-5/
LOCATION:Victory Life Bible Church\, 5697 Hillsdale Blvd\, Sacramento\, CA\, 95842\, United States
END:VEVENT
BEGIN:VEVENT
DTSTART;TZID=UTC:20160307T180000
DTEND;TZID=UTC:20160307T190000
DTSTAMP:20260422T222003
CREATED:20160302T123340Z
LAST-MODIFIED:20160302T123340Z
UID:1523-1457373600-1457377200@www.vlbcsac.org
SUMMARY:"Destiny Seekers" - Focus Group
DESCRIPTION:
URL:https://www.vlbcsac.org/event/destiny-seekers-focus-group-5/
LOCATION:Victory Life Bible Church\, 5697 Hillsdale Blvd\, Sacramento\, CA\, 95842\, United States
END:VEVENT
BEGIN:VEVENT
DTSTART;TZID=America/Los_Angeles:20160304T190000
DTEND;TZID=America/Los_Angeles:20160304T203000
DTSTAMP:20260422T222003
CREATED:20160302T124156Z
LAST-MODIFIED:20160302T124156Z
UID:1533-1457118000-1457123400@www.vlbcsac.org
SUMMARY:Intercessory Prayer
DESCRIPTION:
URL:https://www.vlbcsac.org/event/intercessory-prayer-4/
LOCATION:Victory Life Bible Church\, 5697 Hillsdale Blvd\, Sacramento\, CA\, 95842\, United States
END:VEVENT
BEGIN:VEVENT
DTSTART;TZID=America/Los_Angeles:20160302T190000
DTEND;TZID=America/Los_Angeles:20160302T203000
DTSTAMP:20260422T222003
CREATED:20160302T123948Z
LAST-MODIFIED:20160302T123948Z
UID:1530-1456945200-1456950600@www.vlbcsac.org
SUMMARY:Bible Study
DESCRIPTION:
URL:https://www.vlbcsac.org/event/bible-study-7/
LOCATION:Victory Life Bible Church\, 5697 Hillsdale Blvd\, Sacramento\, CA\, 95842\, United States
END:VEVENT
BEGIN:VEVENT
DTSTART;TZID=UTC:20160229T180000
DTEND;TZID=UTC:20160229T190000
DTSTAMP:20260422T222003
CREATED:20160206T145351Z
LAST-MODIFIED:20160206T145351Z
UID:1484-1456768800-1456772400@www.vlbcsac.org
SUMMARY:"Destiny Seekers" - Focus Group
DESCRIPTION:
URL:https://www.vlbcsac.org/event/destiny-seekers-focus-group-4/
LOCATION:Victory Life Bible Church\, 5697 Hillsdale Blvd\, Sacramento\, CA\, 95842\, United States
END:VEVENT
BEGIN:VEVENT
DTSTART;TZID=UTC:20160228T104500
DTEND;TZID=UTC:20160228T130000
DTSTAMP:20260422T222003
CREATED:20160206T150138Z
LAST-MODIFIED:20160206T150138Z
UID:1491-1456656300-1456664400@www.vlbcsac.org
SUMMARY:Victory Songs
DESCRIPTION:
URL:https://www.vlbcsac.org/event/victory-songs/
LOCATION:Victory Life Bible Church\, 5697 Hillsdale Blvd\, Sacramento\, CA\, 95842\, United States
END:VEVENT
BEGIN:VEVENT
DTSTART;TZID=UTC:20160228T093000
DTEND;TZID=UTC:20160228T104000
DTSTAMP:20260422T222003
CREATED:20160206T150347Z
LAST-MODIFIED:20160206T150347Z
UID:1494-1456651800-1456656000@www.vlbcsac.org
SUMMARY:Sunday School
DESCRIPTION:
URL:https://www.vlbcsac.org/event/sunday-school-4/
LOCATION:Victory Life Bible Church\, 5697 Hillsdale Blvd\, Sacramento\, CA\, 95842\, United States
END:VEVENT
BEGIN:VEVENT
DTSTART;TZID=UTC:20160226T190000
DTEND;TZID=UTC:20160226T203000
DTSTAMP:20260422T222003
CREATED:20160206T145742Z
LAST-MODIFIED:20160206T145742Z
UID:1488-1456513200-1456518600@www.vlbcsac.org
SUMMARY:Intercessory Prayer
DESCRIPTION:
URL:https://www.vlbcsac.org/event/intercessory-prayer-3/
LOCATION:Victory Life Bible Church\, 5697 Hillsdale Blvd\, Sacramento\, CA\, 95842\, United States
END:VEVENT
BEGIN:VEVENT
DTSTART;TZID=UTC:20160224T190000
DTEND;TZID=UTC:20160224T203000
DTSTAMP:20260422T222003
CREATED:20160206T145522Z
LAST-MODIFIED:20160206T145522Z
UID:1486-1456340400-1456345800@www.vlbcsac.org
SUMMARY:Bible Study
DESCRIPTION:
URL:https://www.vlbcsac.org/event/bible-study-3/
LOCATION:Victory Life Bible Church\, 5697 Hillsdale Blvd\, Sacramento\, CA\, 95842\, United States
END:VEVENT
BEGIN:VEVENT
DTSTART;TZID=UTC:20160222T180000
DTEND;TZID=UTC:20160222T190000
DTSTAMP:20260422T222003
CREATED:20160206T145322Z
LAST-MODIFIED:20160206T145322Z
UID:1483-1456164000-1456167600@www.vlbcsac.org
SUMMARY:"Destiny Seekers" - Focus Group
DESCRIPTION:
URL:https://www.vlbcsac.org/event/destiny-seekers-focus-group-3/
LOCATION:CA
END:VEVENT
BEGIN:VEVENT
DTSTART;TZID=UTC:20160221T104500
DTEND;TZID=UTC:20160221T130000
DTSTAMP:20260422T222003
CREATED:20160206T150054Z
LAST-MODIFIED:20160206T150054Z
UID:1490-1456051500-1456059600@www.vlbcsac.org
SUMMARY:Celebration Service
DESCRIPTION:
URL:https://www.vlbcsac.org/event/celebration-service/
LOCATION:Victory Life Bible Church\, 5697 Hillsdale Blvd\, Sacramento\, CA\, 95842\, United States
END:VEVENT
BEGIN:VEVENT
DTSTART;TZID=UTC:20160221T093000
DTEND;TZID=UTC:20160221T104000
DTSTAMP:20260422T222003
CREATED:20160206T150301Z
LAST-MODIFIED:20160206T150301Z
UID:1493-1456047000-1456051200@www.vlbcsac.org
SUMMARY:Sunday School
DESCRIPTION:
URL:https://www.vlbcsac.org/event/sunday-school-3/
LOCATION:Victory Life Bible Church\, 5697 Hillsdale Blvd\, Sacramento\, CA\, 95842\, United States
END:VEVENT
BEGIN:VEVENT
DTSTART;TZID=UTC:20160219T190000
DTEND;TZID=UTC:20160219T203000
DTSTAMP:20260422T222003
CREATED:20160206T145700Z
LAST-MODIFIED:20160206T145700Z
UID:1487-1455908400-1455913800@www.vlbcsac.org
SUMMARY:Intercessory Prayer
DESCRIPTION:
URL:https://www.vlbcsac.org/event/intercessory-prayer-2/
LOCATION:Victory Life Bible Church\, 5697 Hillsdale Blvd\, Sacramento\, CA\, 95842\, United States
END:VEVENT
BEGIN:VEVENT
DTSTART;TZID=UTC:20160217T190000
DTEND;TZID=UTC:20160217T203000
DTSTAMP:20260422T222004
CREATED:20160206T145438Z
LAST-MODIFIED:20160206T145612Z
UID:1485-1455735600-1455741000@www.vlbcsac.org
SUMMARY:Bible Study
DESCRIPTION:
URL:https://www.vlbcsac.org/event/bible-study-2/
LOCATION:Victory Life Bible Church\, 5697 Hillsdale Blvd\, Sacramento\, CA\, 95842\, United States
END:VEVENT
BEGIN:VEVENT
DTSTART;TZID=UTC:20160215T180000
DTEND;TZID=UTC:20160215T190000
DTSTAMP:20260422T222004
CREATED:20160206T145235Z
LAST-MODIFIED:20160206T145235Z
UID:1482-1455559200-1455562800@www.vlbcsac.org
SUMMARY:"Destiny Seekers" - Focus Group
DESCRIPTION:
URL:https://www.vlbcsac.org/event/destiny-seekers-focus-group-2/
LOCATION:Victory Life Bible Church\, 5697 Hillsdale Blvd\, Sacramento\, CA\, 95842\, United States
END:VEVENT
BEGIN:VEVENT
DTSTART;TZID=UTC:20160214T104500
DTEND;TZID=UTC:20160214T130000
DTSTAMP:20260422T222004
CREATED:20160206T150013Z
LAST-MODIFIED:20160206T150013Z
UID:1489-1455446700-1455454800@www.vlbcsac.org
SUMMARY:Communion Service
DESCRIPTION:
URL:https://www.vlbcsac.org/event/communion-service/
LOCATION:Victory Life Bible Church\, 5697 Hillsdale Blvd\, Sacramento\, CA\, 95842\, United States
END:VEVENT
END:VCALENDAR