BEGIN:VCALENDAR
VERSION:2.0
PRODID:-//Victory Life Bible Church, Sacramento - ECPv6.13.2.1//NONSGML v1.0//EN
CALSCALE:GREGORIAN
METHOD:PUBLISH
X-WR-CALNAME:Victory Life Bible Church, Sacramento
X-ORIGINAL-URL:https://www.vlbcsac.org
X-WR-CALDESC:Events for Victory Life Bible Church, Sacramento
REFRESH-INTERVAL;VALUE=DURATION:PT1H
X-Robots-Tag:noindex
X-PUBLISHED-TTL:PT1H
BEGIN:VTIMEZONE
TZID:UTC
BEGIN:STANDARD
TZOFFSETFROM:+0000
TZOFFSETTO:+0000
TZNAME:UTC
DTSTART:20150101T000000
END:STANDARD
END:VTIMEZONE
BEGIN:VEVENT
DTSTART;TZID=UTC:20160214T093000
DTEND;TZID=UTC:20160214T104000
DTSTAMP:20260423T010926
CREATED:20160206T150220Z
LAST-MODIFIED:20160206T150220Z
UID:1492-1455442200-1455446400@www.vlbcsac.org
SUMMARY:Sunday School
DESCRIPTION:
URL:https://www.vlbcsac.org/event/sunday-school-2/
LOCATION:Victory Life Bible Church\, 5697 Hillsdale Blvd\, Sacramento\, CA\, 95842\, United States
END:VEVENT
BEGIN:VEVENT
DTSTART;TZID=UTC:20160212T190000
DTEND;TZID=UTC:20160212T203000
DTSTAMP:20260423T010926
CREATED:20160206T144216Z
LAST-MODIFIED:20160206T144216Z
UID:1474-1455303600-1455309000@www.vlbcsac.org
SUMMARY:Intercessory Prayer
DESCRIPTION:
URL:https://www.vlbcsac.org/event/intercessory-prayer/
LOCATION:Victory Life Bible Church\, 5697 Hillsdale Blvd\, Sacramento\, CA\, 95842\, United States
END:VEVENT
BEGIN:VEVENT
DTSTART;TZID=UTC:20160210T190000
DTEND;TZID=UTC:20160210T203000
DTSTAMP:20260423T010926
CREATED:20160206T144111Z
LAST-MODIFIED:20160206T144111Z
UID:1473-1455130800-1455136200@www.vlbcsac.org
SUMMARY:Bible Study
DESCRIPTION:
URL:https://www.vlbcsac.org/event/bible-study/
LOCATION:Victory Life Bible Church\, 5697 Hillsdale Blvd\, Sacramento\, CA\, 95842\, United States
END:VEVENT
BEGIN:VEVENT
DTSTART;TZID=UTC:20160208T180000
DTEND;TZID=UTC:20160208T190000
DTSTAMP:20260423T010926
CREATED:20160206T143957Z
LAST-MODIFIED:20160206T143957Z
UID:1470-1454954400-1454958000@www.vlbcsac.org
SUMMARY:"Destiny Seekers" - Focus Group
DESCRIPTION:
URL:https://www.vlbcsac.org/event/destiny-seekers-focus-group/
LOCATION:Victory Life Bible Church\, 5697 Hillsdale Blvd\, Sacramento\, CA\, 95842\, United States
END:VEVENT
BEGIN:VEVENT
DTSTART;TZID=UTC:20160207T104500
DTEND;TZID=UTC:20160207T130000
DTSTAMP:20260423T010926
CREATED:20160206T144546Z
LAST-MODIFIED:20160206T144546Z
UID:1476-1454841900-1454850000@www.vlbcsac.org
SUMMARY:Thanksgiving Service
DESCRIPTION:
URL:https://www.vlbcsac.org/event/thanksgiving-service/
LOCATION:Victory Life Bible Church\, 5697 Hillsdale Blvd\, Sacramento\, CA\, 95842\, United States
END:VEVENT
BEGIN:VEVENT
DTSTART;TZID=UTC:20160207T093000
DTEND;TZID=UTC:20160207T104000
DTSTAMP:20260423T010926
CREATED:20160206T144412Z
LAST-MODIFIED:20160206T144412Z
UID:1475-1454837400-1454841600@www.vlbcsac.org
SUMMARY:Sunday School
DESCRIPTION:
URL:https://www.vlbcsac.org/event/sunday-school/
LOCATION:Victory Life Bible Church\, 5697 Hillsdale Blvd\, Sacramento\, CA\, 95842\, United States
END:VEVENT
BEGIN:VEVENT
DTSTART;TZID=UTC:20151218T190000
DTEND;TZID=UTC:20151220T190000
DTSTAMP:20260423T010926
CREATED:20151204T150917Z
LAST-MODIFIED:20151204T150917Z
UID:1446-1450465200-1450638000@www.vlbcsac.org
SUMMARY:Breaking New Grounds
DESCRIPTION:
URL:https://www.vlbcsac.org/event/breaking-new-grounds/
LOCATION:Victory Life Bible Church\, 5697 Hillsdale Blvd\, Sacramento\, CA\, 95842\, United States
END:VEVENT
BEGIN:VEVENT
DTSTART;TZID=UTC:20151204T220000
DTEND;TZID=UTC:20151205T013000
DTSTAMP:20260423T010926
CREATED:20151128T112901Z
LAST-MODIFIED:20151128T112901Z
UID:1439-1449266400-1449279000@www.vlbcsac.org
SUMMARY:Night Vigil
DESCRIPTION:Join Us for a Night of Prayers
URL:https://www.vlbcsac.org/event/night-vigil/
LOCATION:Victory Life Bible Church\, 5697 Hillsdale Blvd\, Sacramento\, CA\, 95842\, United States
END:VEVENT
BEGIN:VEVENT
DTSTART;TZID=UTC:20151130T180000
DTEND;TZID=UTC:20151220T180000
DTSTAMP:20260423T010926
CREATED:20151128T110009Z
LAST-MODIFIED:20151128T110009Z
UID:1437-1448906400-1450634400@www.vlbcsac.org
SUMMARY:21-Day Fast and Prayer
DESCRIPTION:
URL:https://www.vlbcsac.org/event/21-day-fast-and-prayer/
LOCATION:Victory Life Bible Church\, 5697 Hillsdale Blvd\, Sacramento\, CA\, 95842\, United States
END:VEVENT
END:VCALENDAR