BEGIN:VCALENDAR
VERSION:2.0
PRODID:-//Victory Life Bible Church, Sacramento - ECPv6.13.2.1//NONSGML v1.0//EN
CALSCALE:GREGORIAN
METHOD:PUBLISH
X-ORIGINAL-URL:https://www.vlbcsac.org
X-WR-CALDESC:Events for Victory Life Bible Church, Sacramento
REFRESH-INTERVAL;VALUE=DURATION:PT1H
X-Robots-Tag:noindex
X-PUBLISHED-TTL:PT1H
BEGIN:VTIMEZONE
TZID:UTC
BEGIN:STANDARD
TZOFFSETFROM:+0000
TZOFFSETTO:+0000
TZNAME:UTC
DTSTART:20170101T000000
END:STANDARD
END:VTIMEZONE
BEGIN:VEVENT
DTSTART;TZID=UTC:20181012T190000
DTEND;TZID=UTC:20181012T210000
DTSTAMP:20260421T085100
CREATED:20181007T223452Z
LAST-MODIFIED:20181007T223452Z
UID:2449-1539370800-1539378000@www.vlbcsac.org
SUMMARY:Call to Prayer
DESCRIPTION:
URL:https://www.vlbcsac.org/event/call-to-prayer-28/
LOCATION:Victory Life Bible Church\, 5697 Hillsdale Blvd\, Sacramento\, CA\, 95842\, United States
CATEGORIES:Call to Prayer
END:VEVENT
BEGIN:VEVENT
DTSTART;TZID=UTC:20181010T190000
DTEND;TZID=UTC:20181010T203000
DTSTAMP:20260421T085100
CREATED:20181007T223147Z
LAST-MODIFIED:20181007T223147Z
UID:2441-1539198000-1539203400@www.vlbcsac.org
SUMMARY:Bible Study
DESCRIPTION:
URL:https://www.vlbcsac.org/event/bible-study-62/
LOCATION:Victory Life Bible Church\, 5697 Hillsdale Blvd\, Sacramento\, CA\, 95842\, United States
CATEGORIES:Bible Study
END:VEVENT
BEGIN:VEVENT
DTSTART;TZID=UTC:20181008T100000
DTEND;TZID=UTC:20181008T110000
DTSTAMP:20260421T085100
CREATED:20181007T222858Z
LAST-MODIFIED:20181007T222858Z
UID:2433-1538992800-1538996400@www.vlbcsac.org
SUMMARY:Food Ministry - Food Distribution
DESCRIPTION:
URL:https://www.vlbcsac.org/event/food-ministry-food-distribution/
LOCATION:Victory Life Bible Church\, 5697 Hillsdale Blvd\, Sacramento\, CA\, 95842\, United States
CATEGORIES:Food Ministry
END:VEVENT
BEGIN:VEVENT
DTSTART;TZID=UTC:20181007T103000
DTEND;TZID=UTC:20181007T130000
DTSTAMP:20260421T085100
CREATED:20181007T222724Z
LAST-MODIFIED:20181007T222724Z
UID:2431-1538908200-1538917200@www.vlbcsac.org
SUMMARY:Family & Friends Sunday Service
DESCRIPTION:
URL:https://www.vlbcsac.org/event/family-friends-sunday-service/
LOCATION:Victory Life Bible Church\, 5697 Hillsdale Blvd\, Sacramento\, CA\, 95842\, United States
END:VEVENT
BEGIN:VEVENT
DTSTART;TZID=UTC:20180816T193000
DTEND;TZID=UTC:20180820T190000
DTSTAMP:20260421T085100
CREATED:20180506T005922Z
LAST-MODIFIED:20180628T125709Z
UID:2332-1534447800-1534791600@www.vlbcsac.org
SUMMARY:15th Church Anniversary
DESCRIPTION:https://www.vlbcsac.org/hp_wordpress/wp-content/uploads/2018/06/WRBN8334.mp4
URL:https://www.vlbcsac.org/event/16th-church-anniversary/
LOCATION:Victory Life Bible Church\, 5697 Hillsdale Blvd\, Sacramento\, CA\, 95842\, United States
END:VEVENT
BEGIN:VEVENT
DTSTART;TZID=UTC:20180728T170000
DTEND;TZID=UTC:20180728T200000
DTSTAMP:20260421T085100
CREATED:20180506T005650Z
LAST-MODIFIED:20180628T122857Z
UID:2327-1532797200-1532808000@www.vlbcsac.org
SUMMARY:African Praise Night with Progressive COGIC
DESCRIPTION:
URL:https://www.vlbcsac.org/event/african-praise-night-with-progressive-cogic/
LOCATION:Progressive COGIC 2251 <eadowview Rd.\, 2251 Meadowview Rd.\, Sacramento\, CA
END:VEVENT
BEGIN:VEVENT
DTSTART;TZID=UTC:20180714T120000
DTEND;TZID=UTC:20180714T183000
DTSTAMP:20260421T085100
CREATED:20180506T005437Z
LAST-MODIFIED:20180628T123011Z
UID:2325-1531569600-1531593000@www.vlbcsac.org
SUMMARY:Parking Lot Picnic
DESCRIPTION:
URL:https://www.vlbcsac.org/event/parking-lot-picnic/
LOCATION:Victory Life Bible Church\, 5697 Hillsdale Blvd\, Sacramento\, CA\, 95842\, United States
END:VEVENT
BEGIN:VEVENT
DTSTART;TZID=UTC:20180617T104500
DTEND;TZID=UTC:20180617T133000
DTSTAMP:20260421T085100
CREATED:20180506T005734Z
LAST-MODIFIED:20180506T005734Z
UID:2330-1529232300-1529242200@www.vlbcsac.org
SUMMARY:Father's Day Service
DESCRIPTION:
URL:https://www.vlbcsac.org/event/fathers-day-service/
LOCATION:Victory Life Bible Church\, 5697 Hillsdale Blvd\, Sacramento\, CA\, 95842\, United States
END:VEVENT
BEGIN:VEVENT
DTSTART;TZID=UTC:20180530T190000
DTEND;TZID=UTC:20180530T203000
DTSTAMP:20260421T085100
CREATED:20180506T012319Z
LAST-MODIFIED:20180506T012319Z
UID:2354-1527706800-1527712200@www.vlbcsac.org
SUMMARY:Bible Study
DESCRIPTION:
URL:https://www.vlbcsac.org/event/bible-study-61/
LOCATION:Victory Life Bible Church\, 5697 Hillsdale Blvd\, Sacramento\, CA\, 95842\, United States
CATEGORIES:Bible Study
END:VEVENT
BEGIN:VEVENT
DTSTART;TZID=UTC:20180528T190000
DTEND;TZID=UTC:20180528T203000
DTSTAMP:20260421T085100
CREATED:20180506T010330Z
LAST-MODIFIED:20180506T010330Z
UID:2334-1527534000-1527539400@www.vlbcsac.org
SUMMARY:Worker's Prayer Meeting
DESCRIPTION:
URL:https://www.vlbcsac.org/event/workers-prayer-meeting-15/
LOCATION:Victory Life Bible Church\, 5697 Hillsdale Blvd\, Sacramento\, CA\, 95842\, United States
CATEGORIES:Workers Prayer Meeting
END:VEVENT
BEGIN:VEVENT
DTSTART;TZID=UTC:20180528T100000
DTEND;TZID=UTC:20180528T110000
DTSTAMP:20260421T085100
CREATED:20180506T011449Z
LAST-MODIFIED:20180506T011449Z
UID:2346-1527501600-1527505200@www.vlbcsac.org
SUMMARY:Food Ministry
DESCRIPTION:
URL:https://www.vlbcsac.org/event/food-ministry-22/
LOCATION:Victory Life Bible Church\, 5697 Hillsdale Blvd\, Sacramento\, CA\, 95842\, United States
CATEGORIES:Food Ministry
END:VEVENT
BEGIN:VEVENT
DTSTART;TZID=UTC:20180525T190000
DTEND;TZID=UTC:20180525T210000
DTSTAMP:20260421T085100
CREATED:20180506T012424Z
LAST-MODIFIED:20180506T012424Z
UID:2356-1527274800-1527282000@www.vlbcsac.org
SUMMARY:Call to Prayer
DESCRIPTION:
URL:https://www.vlbcsac.org/event/call-to-prayer-27/
LOCATION:Victory Life Bible Church\, 5697 Hillsdale Blvd\, Sacramento\, CA\, 95842\, United States
CATEGORIES:Call to Prayer
END:VEVENT
BEGIN:VEVENT
DTSTART;TZID=UTC:20180523T190000
DTEND;TZID=UTC:20180523T203000
DTSTAMP:20260421T085100
CREATED:20180506T012248Z
LAST-MODIFIED:20180506T012248Z
UID:2352-1527102000-1527107400@www.vlbcsac.org
SUMMARY:Bible Study
DESCRIPTION:
URL:https://www.vlbcsac.org/event/bible-study-60/
LOCATION:Victory Life Bible Church\, 5697 Hillsdale Blvd\, Sacramento\, CA\, 95842\, United States
CATEGORIES:Bible Study
END:VEVENT
BEGIN:VEVENT
DTSTART;TZID=UTC:20180521T100000
DTEND;TZID=UTC:20180521T110000
DTSTAMP:20260421T085100
CREATED:20180506T011020Z
LAST-MODIFIED:20180506T011020Z
UID:2344-1526896800-1526900400@www.vlbcsac.org
SUMMARY:Food Ministry
DESCRIPTION:
URL:https://www.vlbcsac.org/event/food-ministry-21/
LOCATION:Victory Life Bible Church\, 5697 Hillsdale Blvd\, Sacramento\, CA\, 95842\, United States
CATEGORIES:Food Ministry
END:VEVENT
BEGIN:VEVENT
DTSTART;TZID=UTC:20180518T190000
DTEND;TZID=UTC:20180518T210000
DTSTAMP:20260421T085100
CREATED:20180506T011650Z
LAST-MODIFIED:20180506T011650Z
UID:2350-1526670000-1526677200@www.vlbcsac.org
SUMMARY:Call to Prayer
DESCRIPTION:
URL:https://www.vlbcsac.org/event/call-to-prayer-26/
LOCATION:Victory Life Bible Church\, 5697 Hillsdale Blvd\, Sacramento\, CA\, 95842\, United States
CATEGORIES:Call to Prayer
END:VEVENT
BEGIN:VEVENT
DTSTART;TZID=UTC:20180516T190000
DTEND;TZID=UTC:20180516T203000
DTSTAMP:20260421T085100
CREATED:20180506T011548Z
LAST-MODIFIED:20180506T011548Z
UID:2348-1526497200-1526502600@www.vlbcsac.org
SUMMARY:Bible Study
DESCRIPTION:
URL:https://www.vlbcsac.org/event/bible-study-59/
LOCATION:Victory Life Bible Church\, 5697 Hillsdale Blvd\, Sacramento\, CA\, 95842\, United States
CATEGORIES:Bible Study
END:VEVENT
BEGIN:VEVENT
DTSTART;TZID=UTC:20180514T100000
DTEND;TZID=UTC:20180514T110000
DTSTAMP:20260421T085100
CREATED:20180506T010949Z
LAST-MODIFIED:20180506T010949Z
UID:2342-1526292000-1526295600@www.vlbcsac.org
SUMMARY:Food Ministry
DESCRIPTION:
URL:https://www.vlbcsac.org/event/food-ministry-20/
LOCATION:Victory Life Bible Church\, 5697 Hillsdale Blvd\, Sacramento\, CA\, 95842\, United States
END:VEVENT
BEGIN:VEVENT
DTSTART;TZID=UTC:20180513T104500
DTEND;TZID=UTC:20180513T133000
DTSTAMP:20260421T085100
CREATED:20180506T004635Z
LAST-MODIFIED:20180506T004635Z
UID:2318-1526208300-1526218200@www.vlbcsac.org
SUMMARY:Special Mother's Day Service
DESCRIPTION:
URL:https://www.vlbcsac.org/event/special-mothers-day-service/
LOCATION:Victory Life Bible Church\, 5697 Hillsdale Blvd\, Sacramento\, CA\, 95842\, United States
END:VEVENT
BEGIN:VEVENT
DTSTART;TZID=UTC:20180511T190000
DTEND;TZID=UTC:20180511T210000
DTSTAMP:20260421T085100
CREATED:20180506T004918Z
LAST-MODIFIED:20180506T004918Z
UID:2323-1526065200-1526072400@www.vlbcsac.org
SUMMARY:Call to Prayer
DESCRIPTION:
URL:https://www.vlbcsac.org/event/call-to-prayer-25/
LOCATION:Victory Life Bible Church\, 5697 Hillsdale Blvd\, Sacramento\, CA\, 95842\, United States
CATEGORIES:Call to Prayer
END:VEVENT
BEGIN:VEVENT
DTSTART;TZID=UTC:20180509T190000
DTEND;TZID=UTC:20180509T203000
DTSTAMP:20260421T085100
CREATED:20180506T004832Z
LAST-MODIFIED:20180506T004832Z
UID:2321-1525892400-1525897800@www.vlbcsac.org
SUMMARY:Bible Study
DESCRIPTION:
URL:https://www.vlbcsac.org/event/bible-study-58/
LOCATION:Victory Life Bible Church\, 5697 Hillsdale Blvd\, Sacramento\, CA\, 95842\, United States
CATEGORIES:Bible Study
END:VEVENT
BEGIN:VEVENT
DTSTART;TZID=UTC:20180507T100000
DTEND;TZID=UTC:20180507T110000
DTSTAMP:20260421T085100
CREATED:20180506T010920Z
LAST-MODIFIED:20180506T010920Z
UID:2340-1525687200-1525690800@www.vlbcsac.org
SUMMARY:Food Ministry
DESCRIPTION:
URL:https://www.vlbcsac.org/event/food-ministry-19/
LOCATION:Victory Life Bible Church\, 5697 Hillsdale Blvd\, Sacramento\, CA\, 95842\, United States
CATEGORIES:Food Ministry
END:VEVENT
BEGIN:VEVENT
DTSTART;TZID=UTC:20180506T104500
DTEND;TZID=UTC:20180506T133000
DTSTAMP:20260421T085100
CREATED:20180506T010538Z
LAST-MODIFIED:20180506T010538Z
UID:2338-1525603500-1525613400@www.vlbcsac.org
SUMMARY:Praise and Worship Service
DESCRIPTION:
URL:https://www.vlbcsac.org/event/praise-and-worship-service/
LOCATION:Victory Life Bible Church\, 5697 Hillsdale Blvd\, Sacramento\, CA\, 95842\, United States
CATEGORIES:Praise & Worship Service
END:VEVENT
BEGIN:VEVENT
DTSTART;TZID=UTC:20180506T100000
DTEND;TZID=UTC:20180506T104500
DTSTAMP:20260421T085100
CREATED:20180506T010438Z
LAST-MODIFIED:20180506T010438Z
UID:2336-1525600800-1525603500@www.vlbcsac.org
SUMMARY:Adult Sunday School
DESCRIPTION:
URL:https://www.vlbcsac.org/event/adult-sunday-school-21/
LOCATION:Victory Life Bible Church\, 5697 Hillsdale Blvd\, Sacramento\, CA\, 95842\, United States
END:VEVENT
BEGIN:VEVENT
DTSTART;TZID=UTC:20171231T210000
DTEND;TZID=UTC:20180101T010000
DTSTAMP:20260421T085100
CREATED:20171202T131142Z
LAST-MODIFIED:20171202T131142Z
UID:2197-1514754000-1514768400@www.vlbcsac.org
SUMMARY:Watch Night Service
DESCRIPTION:
URL:https://www.vlbcsac.org/event/watch-night-service-2/
LOCATION:Victory Life Bible Church\, 5697 Hillsdale Blvd\, Sacramento\, CA\, 95842\, United States
END:VEVENT
BEGIN:VEVENT
DTSTART;TZID=UTC:20171231T104500
DTEND;TZID=UTC:20171231T130000
DTSTAMP:20260421T085100
CREATED:20171202T132933Z
LAST-MODIFIED:20171202T132933Z
UID:2241-1514717100-1514725200@www.vlbcsac.org
SUMMARY:Praise & Worship Service
DESCRIPTION:
URL:https://www.vlbcsac.org/event/praise-worship-service-22/
LOCATION:Victory Life Bible Church\, 5697 Hillsdale Blvd\, Sacramento\, CA\, 95842\, United States
CATEGORIES:Praise & Worship Service
END:VEVENT
BEGIN:VEVENT
DTSTART;TZID=UTC:20171231T100000
DTEND;TZID=UTC:20171231T104500
DTSTAMP:20260421T085100
CREATED:20171202T132624Z
LAST-MODIFIED:20171202T132624Z
UID:2231-1514714400-1514717100@www.vlbcsac.org
SUMMARY:Adult Sunday School
DESCRIPTION:
URL:https://www.vlbcsac.org/event/adult-sunday-school-20/
LOCATION:Victory Life Bible Church\, 5697 Hillsdale Blvd\, Sacramento\, CA\, 95842\, United States
CATEGORIES:Adult Sunday School
END:VEVENT
BEGIN:VEVENT
DTSTART;TZID=UTC:20171229T190000
DTEND;TZID=UTC:20171229T203000
DTSTAMP:20260421T085100
CREATED:20171202T132248Z
LAST-MODIFIED:20171202T132248Z
UID:2221-1514574000-1514579400@www.vlbcsac.org
SUMMARY:Call to Prayer
DESCRIPTION:
URL:https://www.vlbcsac.org/event/call-to-prayer-24/
LOCATION:Victory Life Bible Church\, 5697 Hillsdale Blvd\, Sacramento\, CA\, 95842\, United States
CATEGORIES:Call to Prayer
END:VEVENT
BEGIN:VEVENT
DTSTART;TZID=UTC:20171227T190000
DTEND;TZID=UTC:20171227T203000
DTSTAMP:20260421T085100
CREATED:20171202T131953Z
LAST-MODIFIED:20171202T131953Z
UID:2211-1514401200-1514406600@www.vlbcsac.org
SUMMARY:Bible Study
DESCRIPTION:
URL:https://www.vlbcsac.org/event/bible-study-57/
LOCATION:Victory Life Bible Church\, 5697 Hillsdale Blvd\, Sacramento\, CA\, 95842\, United States
CATEGORIES:Bible Study
END:VEVENT
BEGIN:VEVENT
DTSTART;TZID=UTC:20171225T100000
DTEND;TZID=UTC:20171225T120000
DTSTAMP:20260421T085100
CREATED:20171202T131042Z
LAST-MODIFIED:20171202T131042Z
UID:2195-1514196000-1514203200@www.vlbcsac.org
SUMMARY:Christmas Prayer Service
DESCRIPTION:
URL:https://www.vlbcsac.org/event/christmas-prayer-service/
LOCATION:Victory Life Bible Church\, 5697 Hillsdale Blvd\, Sacramento\, CA\, 95842\, United States
END:VEVENT
BEGIN:VEVENT
DTSTART;TZID=UTC:20171224T104500
DTEND;TZID=UTC:20171224T130000
DTSTAMP:20260421T085100
CREATED:20171202T132902Z
LAST-MODIFIED:20171202T132902Z
UID:2239-1514112300-1514120400@www.vlbcsac.org
SUMMARY:Praise & Worship Service
DESCRIPTION:
URL:https://www.vlbcsac.org/event/praise-worship-service-21/
LOCATION:Victory Life Bible Church\, 5697 Hillsdale Blvd\, Sacramento\, CA\, 95842\, United States
CATEGORIES:Praise & Worship Service
END:VEVENT
END:VCALENDAR