BEGIN:VCALENDAR
VERSION:2.0
PRODID:-//Victory Life Bible Church, Sacramento - ECPv6.13.2.1//NONSGML v1.0//EN
CALSCALE:GREGORIAN
METHOD:PUBLISH
X-ORIGINAL-URL:https://www.vlbcsac.org
X-WR-CALDESC:Events for Victory Life Bible Church, Sacramento
REFRESH-INTERVAL;VALUE=DURATION:PT1H
X-Robots-Tag:noindex
X-PUBLISHED-TTL:PT1H
BEGIN:VTIMEZONE
TZID:UTC
BEGIN:STANDARD
TZOFFSETFROM:+0000
TZOFFSETTO:+0000
TZNAME:UTC
DTSTART:20170101T000000
END:STANDARD
END:VTIMEZONE
BEGIN:VEVENT
DTSTART;TZID=UTC:20171210T104500
DTEND;TZID=UTC:20171210T130000
DTSTAMP:20260421T130420
CREATED:20171202T132801Z
LAST-MODIFIED:20171202T132801Z
UID:2235-1512902700-1512910800@www.vlbcsac.org
SUMMARY:Praise & Worship Service
DESCRIPTION:
URL:https://www.vlbcsac.org/event/praise-worship-service-19/
LOCATION:Victory Life Bible Church\, 5697 Hillsdale Blvd\, Sacramento\, CA\, 95842\, United States
CATEGORIES:Praise & Worship Service
END:VEVENT
BEGIN:VEVENT
DTSTART;TZID=UTC:20171210T100000
DTEND;TZID=UTC:20171210T104500
DTSTAMP:20260421T130420
CREATED:20171202T132449Z
LAST-MODIFIED:20171202T132449Z
UID:2225-1512900000-1512902700@www.vlbcsac.org
SUMMARY:Adult Sunday School
DESCRIPTION:
URL:https://www.vlbcsac.org/event/adult-sunday-school-17/
LOCATION:Victory Life Bible Church\, 5697 Hillsdale Blvd\, Sacramento\, CA\, 95842\, United States
CATEGORIES:Adult Sunday School
END:VEVENT
BEGIN:VEVENT
DTSTART;TZID=UTC:20171208T190000
DTEND;TZID=UTC:20171208T203000
DTSTAMP:20260421T130420
CREATED:20171202T132121Z
LAST-MODIFIED:20171202T132121Z
UID:2215-1512759600-1512765000@www.vlbcsac.org
SUMMARY:Call to Prayer
DESCRIPTION:
URL:https://www.vlbcsac.org/event/call-to-prayer-21/
LOCATION:Victory Life Bible Church\, 5697 Hillsdale Blvd\, Sacramento\, CA\, 95842\, United States
CATEGORIES:Call to Prayer
END:VEVENT
BEGIN:VEVENT
DTSTART;TZID=UTC:20171206T190000
DTEND;TZID=UTC:20171206T203000
DTSTAMP:20260421T130420
CREATED:20171202T131817Z
LAST-MODIFIED:20171202T131817Z
UID:2205-1512586800-1512592200@www.vlbcsac.org
SUMMARY:Bible Study
DESCRIPTION:
URL:https://www.vlbcsac.org/event/bible-study-54/
LOCATION:Victory Life Bible Church\, 5697 Hillsdale Blvd\, Sacramento\, CA\, 95842\, United States
END:VEVENT
BEGIN:VEVENT
DTSTART;TZID=UTC:20171204T100000
DTEND;TZID=UTC:20171204T120000
DTSTAMP:20260421T130420
CREATED:20171202T131610Z
LAST-MODIFIED:20171202T131610Z
UID:2199-1512381600-1512388800@www.vlbcsac.org
SUMMARY:Food Ministry
DESCRIPTION:
URL:https://www.vlbcsac.org/event/food-ministry-16/
LOCATION:Victory Life Bible Church\, 5697 Hillsdale Blvd\, Sacramento\, CA\, 95842\, United States
CATEGORIES:Food Ministry
END:VEVENT
BEGIN:VEVENT
DTSTART;TZID=UTC:20171203T104500
DTEND;TZID=UTC:20171203T130000
DTSTAMP:20260421T130420
CREATED:20171202T132726Z
LAST-MODIFIED:20171202T132726Z
UID:2233-1512297900-1512306000@www.vlbcsac.org
SUMMARY:Praise & Worship Service
DESCRIPTION:
URL:https://www.vlbcsac.org/event/praise-worship-service-18/
LOCATION:Victory Life Bible Church\, 5697 Hillsdale Blvd\, Sacramento\, CA\, 95842\, United States
CATEGORIES:Praise & Worship Service
END:VEVENT
BEGIN:VEVENT
DTSTART;TZID=UTC:20171203T100000
DTEND;TZID=UTC:20171203T104500
DTSTAMP:20260421T130420
CREATED:20171202T132408Z
LAST-MODIFIED:20171202T132408Z
UID:2223-1512295200-1512297900@www.vlbcsac.org
SUMMARY:Adult Sunday School
DESCRIPTION:
URL:https://www.vlbcsac.org/event/adult-sunday-school-16/
LOCATION:Victory Life Bible Church\, 5697 Hillsdale Blvd\, Sacramento\, CA\, 95842\, United States
CATEGORIES:Adult Sunday School
END:VEVENT
BEGIN:VEVENT
DTSTART;TZID=UTC:20171201T190000
DTEND;TZID=UTC:20171201T203000
DTSTAMP:20260421T130420
CREATED:20171202T132043Z
LAST-MODIFIED:20171202T132043Z
UID:2213-1512154800-1512160200@www.vlbcsac.org
SUMMARY:Call to Prayer
DESCRIPTION:
URL:https://www.vlbcsac.org/event/call-to-prayer-20/
LOCATION:Victory Life Bible Church\, 5697 Hillsdale Blvd\, Sacramento\, CA\, 95842\, United States
END:VEVENT
BEGIN:VEVENT
DTSTART;TZID=UTC:20170830T190000
DTEND;TZID=UTC:20170830T203000
DTSTAMP:20260421T130420
CREATED:20170801T120021Z
LAST-MODIFIED:20170801T120021Z
UID:2123-1504119600-1504125000@www.vlbcsac.org
SUMMARY:Bible Study
DESCRIPTION:
URL:https://www.vlbcsac.org/event/bible-study-53/
LOCATION:Victory Life Bible Church\, 5697 Hillsdale Blvd\, Sacramento\, CA\, 95842\, United States
CATEGORIES:Bible Study
END:VEVENT
BEGIN:VEVENT
DTSTART;TZID=UTC:20170828T190000
DTEND;TZID=UTC:20170828T200000
DTSTAMP:20260421T130420
CREATED:20170801T115442Z
LAST-MODIFIED:20170801T115442Z
UID:2107-1503946800-1503950400@www.vlbcsac.org
SUMMARY:Workers Meeting
DESCRIPTION:
URL:https://www.vlbcsac.org/event/workers-meeting/
LOCATION:Victory Life Bible Church\, 5697 Hillsdale Blvd\, Sacramento\, CA\, 95842\, United States
END:VEVENT
BEGIN:VEVENT
DTSTART;TZID=UTC:20170828T100000
DTEND;TZID=UTC:20170828T120000
DTSTAMP:20260421T130420
CREATED:20170801T115138Z
LAST-MODIFIED:20170801T115138Z
UID:2103-1503914400-1503921600@www.vlbcsac.org
SUMMARY:Food Ministry
DESCRIPTION:
URL:https://www.vlbcsac.org/event/food-ministry-15/
LOCATION:Victory Life Bible Church\, 5697 Hillsdale Blvd\, Sacramento\, CA\, 95842\, United States
CATEGORIES:Food Ministry
END:VEVENT
BEGIN:VEVENT
DTSTART;TZID=UTC:20170827T104500
DTEND;TZID=UTC:20170827T130000
DTSTAMP:20260421T130420
CREATED:20170801T120730Z
LAST-MODIFIED:20170801T120730Z
UID:2142-1503830700-1503838800@www.vlbcsac.org
SUMMARY:Praise & Worship Service
DESCRIPTION:
URL:https://www.vlbcsac.org/event/praise-worship-service-17/
LOCATION:Victory Life Bible Church\, 5697 Hillsdale Blvd\, Sacramento\, CA\, 95842\, United States
CATEGORIES:Praise & Worship Service
END:VEVENT
BEGIN:VEVENT
DTSTART;TZID=UTC:20170827T100000
DTEND;TZID=UTC:20170827T104500
DTSTAMP:20260421T130420
CREATED:20170801T120511Z
LAST-MODIFIED:20170801T120511Z
UID:2136-1503828000-1503830700@www.vlbcsac.org
SUMMARY:Adult Sunday School
DESCRIPTION:
URL:https://www.vlbcsac.org/event/adult-sunday-school-15/
LOCATION:Victory Life Bible Church\, 5697 Hillsdale Blvd\, Sacramento\, CA\, 95842\, United States
CATEGORIES:Adult Sunday School
END:VEVENT
BEGIN:VEVENT
DTSTART;TZID=UTC:20170827T093000
DTEND;TZID=UTC:20170827T103000
DTSTAMP:20260421T130420
CREATED:20170801T120242Z
LAST-MODIFIED:20170801T120242Z
UID:2129-1503826200-1503829800@www.vlbcsac.org
SUMMARY:Worker's Prayer Meeting
DESCRIPTION:
URL:https://www.vlbcsac.org/event/workers-prayer-meeting-14/
LOCATION:Victory Life Bible Church\, 5697 Hillsdale Blvd\, Sacramento\, CA\, 95842\, United States
CATEGORIES:Workers Prayer Meeting
END:VEVENT
BEGIN:VEVENT
DTSTART;TZID=UTC:20170825T190000
DTEND;TZID=UTC:20170825T210000
DTSTAMP:20260421T130420
CREATED:20170801T115713Z
LAST-MODIFIED:20170801T115713Z
UID:2113-1503687600-1503694800@www.vlbcsac.org
SUMMARY:Call to Prayer
DESCRIPTION:
URL:https://www.vlbcsac.org/event/call-to-prayer-19/
LOCATION:Victory Life Bible Church\, 5697 Hillsdale Blvd\, Sacramento\, CA\, 95842\, United States
CATEGORIES:Call to Prayer
END:VEVENT
BEGIN:VEVENT
DTSTART;TZID=UTC:20170823T190000
DTEND;TZID=UTC:20170823T203000
DTSTAMP:20260421T130420
CREATED:20170801T115955Z
LAST-MODIFIED:20170801T115955Z
UID:2121-1503514800-1503520200@www.vlbcsac.org
SUMMARY:Bible Study
DESCRIPTION:
URL:https://www.vlbcsac.org/event/bible-study-52/
LOCATION:Victory Life Bible Church\, 5697 Hillsdale Blvd\, Sacramento\, CA\, 95842\, United States
CATEGORIES:Bible Study
END:VEVENT
BEGIN:VEVENT
DTSTART;TZID=UTC:20170821T100000
DTEND;TZID=UTC:20170821T120000
DTSTAMP:20260421T130420
CREATED:20170801T115053Z
LAST-MODIFIED:20170801T115053Z
UID:2101-1503309600-1503316800@www.vlbcsac.org
SUMMARY:Food Ministry
DESCRIPTION:
URL:https://www.vlbcsac.org/event/food-ministry-14/
LOCATION:Victory Life Bible Church\, 5697 Hillsdale Blvd\, Sacramento\, CA\, 95842\, United States
CATEGORIES:Food Ministry
END:VEVENT
BEGIN:VEVENT
DTSTART;TZID=UTC:20170820T104500
DTEND;TZID=UTC:20170820T130000
DTSTAMP:20260421T130420
CREATED:20170801T120659Z
LAST-MODIFIED:20170801T120659Z
UID:2140-1503225900-1503234000@www.vlbcsac.org
SUMMARY:Praise & Worship Service
DESCRIPTION:
URL:https://www.vlbcsac.org/event/praise-worship-service-16/
LOCATION:Victory Life Bible Church\, 5697 Hillsdale Blvd\, Sacramento\, CA\, 95842\, United States
CATEGORIES:Praise & Worship Service
END:VEVENT
BEGIN:VEVENT
DTSTART;TZID=UTC:20170820T100000
DTEND;TZID=UTC:20170820T104500
DTSTAMP:20260421T130420
CREATED:20170801T120438Z
LAST-MODIFIED:20170801T120438Z
UID:2134-1503223200-1503225900@www.vlbcsac.org
SUMMARY:Adult Sunday School
DESCRIPTION:
URL:https://www.vlbcsac.org/event/adult-sunday-school-14/
LOCATION:Victory Life Bible Church\, 5697 Hillsdale Blvd\, Sacramento\, CA\, 95842\, United States
CATEGORIES:Adult Sunday School
END:VEVENT
BEGIN:VEVENT
DTSTART;TZID=UTC:20170820T093000
DTEND;TZID=UTC:20170820T100000
DTSTAMP:20260421T130420
CREATED:20170801T120205Z
LAST-MODIFIED:20170801T120205Z
UID:2127-1503221400-1503223200@www.vlbcsac.org
SUMMARY:Worker's Prayer Meeting
DESCRIPTION:
URL:https://www.vlbcsac.org/event/workers-prayer-meeting-13/
LOCATION:Victory Life Bible Church\, 5697 Hillsdale Blvd\, Sacramento\, CA\, 95842\, United States
CATEGORIES:Workers Prayer Meeting
END:VEVENT
BEGIN:VEVENT
DTSTART;TZID=UTC:20170818T190000
DTEND;TZID=UTC:20170818T210000
DTSTAMP:20260421T130420
CREATED:20170801T115624Z
LAST-MODIFIED:20170801T115642Z
UID:2111-1503082800-1503090000@www.vlbcsac.org
SUMMARY:Call to Prayer
DESCRIPTION:
URL:https://www.vlbcsac.org/event/call-to-prayer-18/
LOCATION:Victory Life Bible Church\, 5697 Hillsdale Blvd\, Sacramento\, CA\, 95842\, United States
CATEGORIES:Call to Prayer
END:VEVENT
BEGIN:VEVENT
DTSTART;TZID=UTC:20170816T190000
DTEND;TZID=UTC:20170816T203000
DTSTAMP:20260421T130420
CREATED:20170801T115921Z
LAST-MODIFIED:20170801T115921Z
UID:2119-1502910000-1502915400@www.vlbcsac.org
SUMMARY:Bible Study
DESCRIPTION:
URL:https://www.vlbcsac.org/event/bible-study-51/
LOCATION:Victory Life Bible Church\, 5697 Hillsdale Blvd\, Sacramento\, CA\, 95842\, United States
CATEGORIES:Bible Study
END:VEVENT
BEGIN:VEVENT
DTSTART;TZID=UTC:20170810T190000
DTEND;TZID=UTC:20170814T190000
DTSTAMP:20260421T130420
CREATED:20170801T114914Z
LAST-MODIFIED:20170801T114914Z
UID:2097-1502391600-1502737200@www.vlbcsac.org
SUMMARY:2017 Holy Convocation - August 10 - 14\, 2017
DESCRIPTION:
URL:https://www.vlbcsac.org/event/2017-holy-convocation-august-10-14-2017/
LOCATION:Victory Life Bible Church\, 5697 Hillsdale Blvd\, Sacramento\, CA\, 95842\, United States
END:VEVENT
BEGIN:VEVENT
DTSTART;TZID=UTC:20170809T190000
DTEND;TZID=UTC:20170809T203000
DTSTAMP:20260421T130420
CREATED:20170801T115852Z
LAST-MODIFIED:20170801T115852Z
UID:2117-1502305200-1502310600@www.vlbcsac.org
SUMMARY:Bible Study
DESCRIPTION:
URL:https://www.vlbcsac.org/event/bible-study-50/
LOCATION:Victory Life Bible Church\, 5697 Hillsdale Blvd\, Sacramento\, CA\, 95842\, United States
CATEGORIES:Bible Study
END:VEVENT
BEGIN:VEVENT
DTSTART;TZID=UTC:20170807T190000
DTEND;TZID=UTC:20170807T200000
DTSTAMP:20260421T130420
CREATED:20170801T115346Z
LAST-MODIFIED:20170801T115346Z
UID:2105-1502132400-1502136000@www.vlbcsac.org
SUMMARY:Discipleship Class
DESCRIPTION:
URL:https://www.vlbcsac.org/event/discipleship-class/
LOCATION:Victory Life Bible Church\, 5697 Hillsdale Blvd\, Sacramento\, CA\, 95842\, United States
END:VEVENT
BEGIN:VEVENT
DTSTART;TZID=UTC:20170807T100000
DTEND;TZID=UTC:20170807T120000
DTSTAMP:20260421T130420
CREATED:20170801T115016Z
LAST-MODIFIED:20170801T115016Z
UID:2099-1502100000-1502107200@www.vlbcsac.org
SUMMARY:Food Ministry
DESCRIPTION:
URL:https://www.vlbcsac.org/event/food-ministry-13/
LOCATION:Victory Life Bible Church\, 5697 Hillsdale Blvd\, Sacramento\, CA\, 95842\, United States
CATEGORIES:Food Ministry
END:VEVENT
BEGIN:VEVENT
DTSTART;TZID=UTC:20170806T104500
DTEND;TZID=UTC:20170806T130000
DTSTAMP:20260421T130420
CREATED:20170801T120624Z
LAST-MODIFIED:20170801T120624Z
UID:2138-1502016300-1502024400@www.vlbcsac.org
SUMMARY:Praise & Worship Service
DESCRIPTION:
URL:https://www.vlbcsac.org/event/praise-worship-service-15/
LOCATION:Victory Life Bible Church\, 5697 Hillsdale Blvd\, Sacramento\, CA\, 95842\, United States
CATEGORIES:Praise & Worship Service
END:VEVENT
BEGIN:VEVENT
DTSTART;TZID=UTC:20170806T100000
DTEND;TZID=UTC:20170806T104500
DTSTAMP:20260421T130420
CREATED:20170801T120341Z
LAST-MODIFIED:20170801T120357Z
UID:2131-1502013600-1502016300@www.vlbcsac.org
SUMMARY:Adult Sunday School
DESCRIPTION:
URL:https://www.vlbcsac.org/event/sunday-school-13/
LOCATION:Victory Life Bible Church\, 5697 Hillsdale Blvd\, Sacramento\, CA\, 95842\, United States
CATEGORIES:Adult Sunday School
END:VEVENT
BEGIN:VEVENT
DTSTART;TZID=UTC:20170806T093000
DTEND;TZID=UTC:20170806T100000
DTSTAMP:20260421T130420
CREATED:20170801T120132Z
LAST-MODIFIED:20170801T120132Z
UID:2125-1502011800-1502013600@www.vlbcsac.org
SUMMARY:Worker's Prayer Meeting
DESCRIPTION:
URL:https://www.vlbcsac.org/event/workers-prayer-meeting-12/
LOCATION:Victory Life Bible Church\, 5697 Hillsdale Blvd\, Sacramento\, CA\, 95842\, United States
CATEGORIES:Workers Prayer Meeting
END:VEVENT
BEGIN:VEVENT
DTSTART;TZID=UTC:20170805T060000
DTEND;TZID=UTC:20170805T073000
DTSTAMP:20260421T130420
CREATED:20170801T114714Z
LAST-MODIFIED:20170801T114714Z
UID:2095-1501912800-1501918200@www.vlbcsac.org
SUMMARY:Saturday Morning Dew
DESCRIPTION:
URL:https://www.vlbcsac.org/event/saturday-morning-dew-4/
LOCATION:Victory Life Bible Church\, 5697 Hillsdale Blvd\, Sacramento\, CA\, 95842\, United States
CATEGORIES:Saturday Morning Dew
END:VEVENT
END:VCALENDAR